BEGIN:VCALENDAR
VERSION:2.0
PRODID:-// - ECPv6.15.17//NONSGML v1.0//EN
CALSCALE:GREGORIAN
METHOD:PUBLISH
X-ORIGINAL-URL:https://wruw.org
X-WR-CALDESC:Events for 
REFRESH-INTERVAL;VALUE=DURATION:PT1H
X-Robots-Tag:noindex
X-PUBLISHED-TTL:PT1H
BEGIN:VTIMEZONE
TZID:America/New_York
BEGIN:DAYLIGHT
TZOFFSETFROM:-0500
TZOFFSETTO:-0400
TZNAME:EDT
DTSTART:20160313T070000
END:DAYLIGHT
BEGIN:STANDARD
TZOFFSETFROM:-0400
TZOFFSETTO:-0500
TZNAME:EST
DTSTART:20161106T060000
END:STANDARD
BEGIN:DAYLIGHT
TZOFFSETFROM:-0500
TZOFFSETTO:-0400
TZNAME:EDT
DTSTART:20170312T070000
END:DAYLIGHT
BEGIN:STANDARD
TZOFFSETFROM:-0400
TZOFFSETTO:-0500
TZNAME:EST
DTSTART:20171105T060000
END:STANDARD
BEGIN:DAYLIGHT
TZOFFSETFROM:-0500
TZOFFSETTO:-0400
TZNAME:EDT
DTSTART:20180311T070000
END:DAYLIGHT
BEGIN:STANDARD
TZOFFSETFROM:-0400
TZOFFSETTO:-0500
TZNAME:EST
DTSTART:20181104T060000
END:STANDARD
END:VTIMEZONE
BEGIN:VEVENT
DTSTART;VALUE=DATE:20170226
DTEND;VALUE=DATE:20170227
DTSTAMP:20260421T135438
CREATED:20170217T183135Z
LAST-MODIFIED:20170217T183135Z
UID:711887-1488067200-1488153599@wruw.org
SUMMARY:WRUW's 50th Birthday!
DESCRIPTION:In 1946\, WFSM was founded by the Flora Stone Mather Radio Club\, “broadcasting” via a public address system. Since that time\, it evolved into an AM carrier-current station (WRAR\, starting in 1955) and then (on February 26th\, 1967) to the FM broadcast station it is now. WRUW 91.1 FM began as a ten watt mono station serving the University Circle neighborhood of Cleveland. WRUW gained stereo capability in 1974 and\, in 1980\, raised its power to 1\,000 watts. The evolution of WRUW was competed when\, on March 5th 2002\, WRUW increased its power to 15\,000 watts. WRUW now serves a large portion of the Northeast/Northern Ohio region\, from the Ohio/Pennsylvania border (to the east) to Toledo and parts of Michigan (to the west) and portions of Canada (to the north). \nOn Sunday\, February 26th WRUW will be celebrating our 50th anniversary! For our 50th birthday we have several days of special programming planned\, including #throwback episodes of The Cream of Broccoli Radio Hour and Sunday Matinee on February 26th\, 2017 focusing on music from the year the station went FM! Radio Child will be featuring a song for each year WRUW has been on the air! We are currently planning to present “WRUW Listens Back” with the help of alumni on-air programmers. It will be 24 hours of archived programming broken into one hour slices\, featuring past on air personalities as John E. Midnight\, Joe Riznar\, Cuzin’ Dave Newman\, Anne Weatherhead\, and Catherine Butler among many more. Please contact our alumni director James Szabo at wruwis50@wruw.org if you are a past WRUW staff member who would like to contribute.
URL:https://wruw.org/event/wruws-50th-birthday/
LOCATION:WRUW-FM 91.1 Cleveland\, 11220 Bellflower Rd\, Cleveland\, OH\, 44106\, United States
CATEGORIES:WRUW,WRUWis50
END:VEVENT
END:VCALENDAR