BEGIN:VCALENDAR
VERSION:2.0
PRODID:-// - ECPv6.15.17//NONSGML v1.0//EN
CALSCALE:GREGORIAN
METHOD:PUBLISH
X-ORIGINAL-URL:https://wruw.org
X-WR-CALDESC:Events for 
REFRESH-INTERVAL;VALUE=DURATION:PT1H
X-Robots-Tag:noindex
X-PUBLISHED-TTL:PT1H
BEGIN:VTIMEZONE
TZID:America/New_York
BEGIN:DAYLIGHT
TZOFFSETFROM:-0500
TZOFFSETTO:-0400
TZNAME:EDT
DTSTART:20160313T070000
END:DAYLIGHT
BEGIN:STANDARD
TZOFFSETFROM:-0400
TZOFFSETTO:-0500
TZNAME:EST
DTSTART:20161106T060000
END:STANDARD
BEGIN:DAYLIGHT
TZOFFSETFROM:-0500
TZOFFSETTO:-0400
TZNAME:EDT
DTSTART:20170312T070000
END:DAYLIGHT
BEGIN:STANDARD
TZOFFSETFROM:-0400
TZOFFSETTO:-0500
TZNAME:EST
DTSTART:20171105T060000
END:STANDARD
BEGIN:DAYLIGHT
TZOFFSETFROM:-0500
TZOFFSETTO:-0400
TZNAME:EDT
DTSTART:20180311T070000
END:DAYLIGHT
BEGIN:STANDARD
TZOFFSETFROM:-0400
TZOFFSETTO:-0500
TZNAME:EST
DTSTART:20181104T060000
END:STANDARD
END:VTIMEZONE
BEGIN:VEVENT
DTSTART;TZID=America/New_York:20170225T210000
DTEND;TZID=America/New_York:20170226T020000
DTSTAMP:20260421T181210
CREATED:20170217T183744Z
LAST-MODIFIED:20170217T183744Z
UID:711892-1488056400-1488074400@wruw.org
SUMMARY:WRUW's 50th Birthday Party at Happy Dog at the Euclid Tavern
DESCRIPTION:Come celebrate WRUW-FM 91.1 Cleveland – the voice of Case Western Reserve University and Cleveland at large – as it celebrates 50 years on the air!\nAfter a WRUW private function from 7-9\, the bar will reopen to the public for a FREE show featuring: \nThe Cross Brothers (members of Coffinberry\, Little Bighorn\, Herzog\, Shale Satans)\nFascinating (Quality Time Records)\n(https://qualitytimerecords.bandcamp.com/album/dice-game)\n+ WRUW DJs spinning before\, after\, n in-between sets! \nCelebrate a staple of Cleveland’s community with us! \nFacebook Event Page
URL:https://wruw.org/event/wruws-50th-birthday-party-at-happy-dog-at-the-euclid-tavern/
LOCATION:Happy Dog at Euclid Tavern\, 11625 Euclid Avenue\, Cleveland\, OH\, 44106\, United States
CATEGORIES:WRUW,WRUWis50
END:VEVENT
END:VCALENDAR