BEGIN:VCALENDAR
VERSION:2.0
PRODID:-// - ECPv6.15.17//NONSGML v1.0//EN
CALSCALE:GREGORIAN
METHOD:PUBLISH
X-ORIGINAL-URL:https://wruw.org
X-WR-CALDESC:Events for 
REFRESH-INTERVAL;VALUE=DURATION:PT1H
X-Robots-Tag:noindex
X-PUBLISHED-TTL:PT1H
BEGIN:VTIMEZONE
TZID:America/New_York
BEGIN:DAYLIGHT
TZOFFSETFROM:-0500
TZOFFSETTO:-0400
TZNAME:EDT
DTSTART:20190310T070000
END:DAYLIGHT
BEGIN:STANDARD
TZOFFSETFROM:-0400
TZOFFSETTO:-0500
TZNAME:EST
DTSTART:20191103T060000
END:STANDARD
BEGIN:DAYLIGHT
TZOFFSETFROM:-0500
TZOFFSETTO:-0400
TZNAME:EDT
DTSTART:20200308T070000
END:DAYLIGHT
BEGIN:STANDARD
TZOFFSETFROM:-0400
TZOFFSETTO:-0500
TZNAME:EST
DTSTART:20201101T060000
END:STANDARD
BEGIN:DAYLIGHT
TZOFFSETFROM:-0500
TZOFFSETTO:-0400
TZNAME:EDT
DTSTART:20210314T070000
END:DAYLIGHT
BEGIN:STANDARD
TZOFFSETFROM:-0400
TZOFFSETTO:-0500
TZNAME:EST
DTSTART:20211107T060000
END:STANDARD
END:VTIMEZONE
BEGIN:VEVENT
DTSTART;TZID=America/New_York:20200222T190000
DTEND;TZID=America/New_York:20200222T233000
DTSTAMP:20260421T100838
CREATED:20200211T204751Z
LAST-MODIFIED:20200211T204751Z
UID:752811-1582398000-1582414200@wruw.org
SUMMARY:WRUW-FM presents The Blue Stones w/ JJ Wilde and The Dead Licks
DESCRIPTION:Come celebrate WRUW’s 53rd birthday at the Grog Shop and B-Side Lounge! Starting at 7:00\, there will be a free pre-party at the B-Side featuring free pizza\, drink specials\, and more. Then at 8:30\, come join us in the Grog Shop for The Blue Stones with JJ Wilde and The Dead Licks. \n  \nNot having a third member to fill another rhythm role\, the Windsor\, Ontario based duo developed an original characteristic to the sounds of the bands that influenced them\, such as Kings of Leon\, My Morning Jacket\, MUTEMATH and The Black Keys. “We never had a bass player in our early jams\, so we subconsciously compensated for one in the music\,” says guitarist/vocalist Tarek Jafar. \nApparently it’s worked\, the group has reached top-level sales on the popular Bandcamp.com as well as garnering over one million spins on Spotify. The duo’s music has also been featured numerous times on major network television shows such as Suits\, Parks and Rec and Monday Night Football . \nMore importantly\, crowds across Canada and hometown-neighbouring Detroit\, MI have been stunned by the energy and force behind their loud\, dominant live performances—especially for just two dapper guys. The Blue Stones create a killer hi/lo effect; contrasting their slick and put together look with their rough and rollicking live show. Heart\, soul and sweat characterize every Blue Stones spectacle – you can’t help but be pulled in from the moment the first note is played. \nThe two are elated to have played with premiere acts and in national festivals; however\, they’d like to achieve an even greater reach to bigger audiences around all of North America and the world. “We love this too much to keep it hid in southwestern Ontario.”
URL:https://wruw.org/event/wruw-fm-presents-the-blue-stones-w-jj-wilde-and-the-dead-licks/
LOCATION:Grog Shop\, 2785 Euclid Heights Boulevard\, Cleveland Heights\, OH\, 44106\, United States
ATTACH;FMTTYPE=image/jpeg:https://wruw.org/wp-content/uploads/2020/02/bluestones11x17-small.jpg
END:VEVENT
END:VCALENDAR