BEGIN:VCALENDAR
VERSION:2.0
PRODID:-// - ECPv6.15.17//NONSGML v1.0//EN
CALSCALE:GREGORIAN
METHOD:PUBLISH
X-ORIGINAL-URL:https://wruw.org
X-WR-CALDESC:Events for 
REFRESH-INTERVAL;VALUE=DURATION:PT1H
X-Robots-Tag:noindex
X-PUBLISHED-TTL:PT1H
BEGIN:VTIMEZONE
TZID:UTC
BEGIN:STANDARD
TZOFFSETFROM:+0000
TZOFFSETTO:+0000
TZNAME:UTC
DTSTART:20170101T000000
END:STANDARD
END:VTIMEZONE
BEGIN:VEVENT
DTSTART;TZID=UTC:20180623T200000
DTEND;TZID=UTC:20180624T010000
DTSTAMP:20260422T191717
CREATED:20180620T180840Z
LAST-MODIFIED:20180620T180903Z
UID:748623-1529784000-1529802000@wruw.org
SUMMARY:CMA Summer Soltice
DESCRIPTION:Celebrate the long summer days and hot summer nights with WRUW  at the Cleveland Museum of Art’s tenth annual Solstice 2018 broadcasted live from the CMA on Saturday June 23rd beginning around 8 pm — right here on WRUW-FM.Join us for a night where art and music come together.Starting at 8 pm it’s four fabulous women from Brazil\, Colombia\, Venezuela and the US – LadamaAt 9:15  it’s Ravid Kahalani’s Yemen BluesThen at 10:30pm Miho Hatori’s New OptimismClosing out the show – near midnight (11:50pm) Afro-Canadian singer-songwriter Pierre KwendersThe concert is sold out but you can enjoy this world music event with us on 91.1 FM
URL:https://wruw.org/event/cma-summer-soltice/
LOCATION:Cleveland Museum of Art\, 11150 East Blvd\, Cleveland\, OH\, 44106\, United States
CATEGORIES:Live Remote
END:VEVENT
BEGIN:VEVENT
DTSTART;TZID=UTC:20180630T120000
DTEND;TZID=UTC:20180630T183000
DTSTAMP:20260422T191717
CREATED:20180619T003822Z
LAST-MODIFIED:20180619T003822Z
UID:748608-1530360000-1530383400@wruw.org
SUMMARY:Waterloo Arts Fest
DESCRIPTION:Come down to this year’s Waterloo Arts Fest. \n\nWe will have WRUW freebies available at Blue Arrow Records where Ed from Chasing Infinity will be DJing. Our Brand new Live From Cleveland T-shirts will be there on sale for purchase as well.\n\nHere is the line-up of DJ’s:\n\n12:00pm to 2:00pm – Chris and Heidi Kulsar2:00pm to 4:00pm – Ed from WRUW’s Chasing Infinity \n4:00pm to 6:00pm – Stanislav Zabic 4-6
URL:https://wruw.org/event/waterloo-arts-fest-2/
LOCATION:Blue Arrow Records\, 16001 Waterloo Rd\, Cleveland\, OH\, 44110\, United States
END:VEVENT
END:VCALENDAR