BEGIN:VCALENDAR
VERSION:2.0
PRODID:-// - ECPv6.15.17//NONSGML v1.0//EN
CALSCALE:GREGORIAN
METHOD:PUBLISH
X-ORIGINAL-URL:https://wruw.org
X-WR-CALDESC:Events for 
REFRESH-INTERVAL;VALUE=DURATION:PT1H
X-Robots-Tag:noindex
X-PUBLISHED-TTL:PT1H
BEGIN:VTIMEZONE
TZID:America/New_York
BEGIN:DAYLIGHT
TZOFFSETFROM:-0500
TZOFFSETTO:-0400
TZNAME:EDT
DTSTART:20180311T070000
END:DAYLIGHT
BEGIN:STANDARD
TZOFFSETFROM:-0400
TZOFFSETTO:-0500
TZNAME:EST
DTSTART:20181104T060000
END:STANDARD
BEGIN:DAYLIGHT
TZOFFSETFROM:-0500
TZOFFSETTO:-0400
TZNAME:EDT
DTSTART:20190310T070000
END:DAYLIGHT
BEGIN:STANDARD
TZOFFSETFROM:-0400
TZOFFSETTO:-0500
TZNAME:EST
DTSTART:20191103T060000
END:STANDARD
BEGIN:DAYLIGHT
TZOFFSETFROM:-0500
TZOFFSETTO:-0400
TZNAME:EDT
DTSTART:20200308T070000
END:DAYLIGHT
BEGIN:STANDARD
TZOFFSETFROM:-0400
TZOFFSETTO:-0500
TZNAME:EST
DTSTART:20201101T060000
END:STANDARD
END:VTIMEZONE
BEGIN:VEVENT
DTSTART;TZID=America/New_York:20190504T120000
DTEND;TZID=America/New_York:20190504T180000
DTSTAMP:20260422T065339
CREATED:20190416T181112Z
LAST-MODIFIED:20190424T152408Z
UID:750782-1556971200-1556992800@wruw.org
SUMMARY:Premium Pick-Up Party
DESCRIPTION:We will be hosting a Premium Pick-up Party where you can come to the Case Western Reserve University campus\, pick up your thank-you gifts\, meet WRUW DJs\, tour the station\, and receive free food and a drink on us (if you made a $25 or greater donation in 2019). \nWho: WRUW Staff\, Donors\, and Friends \nWhat: Party to pick-up premiums\, meet staff members\, tour the station\, eat drink and be merry! \nWhere: Thwing Atrium\, The Jolly Scholar\, WRUW (11111 Euclid Ave\, Cleveland\, Ohio 44106) \nWhen: Saturday\, May 4th 12pm-6pm \nWhy: We want to meet our awesome donors\, and show off the station!!  \n  \nIf you cannot make the pick-up party\, your premium will be mailed to you as was done in the past. \n  \nStreet parking is available along Bellflower Road and East Ave (free on weekends)\, and garage parking is available in Lot 29 ($2.00/hour). \n  \nAny questions can be sent to telethon@wruw.org.
URL:https://wruw.org/event/premium-pick-up-party/
LOCATION:jolly sholar\, 11111 Euclid Ave\, Cleveland\, OH\, 44106\, United States
CATEGORIES:WRUW
END:VEVENT
END:VCALENDAR