BEGIN:VCALENDAR
VERSION:2.0
PRODID:-// - ECPv6.15.17//NONSGML v1.0//EN
CALSCALE:GREGORIAN
METHOD:PUBLISH
X-ORIGINAL-URL:https://wruw.org
X-WR-CALDESC:Events for 
REFRESH-INTERVAL;VALUE=DURATION:PT1H
X-Robots-Tag:noindex
X-PUBLISHED-TTL:PT1H
BEGIN:VTIMEZONE
TZID:UTC
BEGIN:STANDARD
TZOFFSETFROM:+0000
TZOFFSETTO:+0000
TZNAME:UTC
DTSTART:20140101T000000
END:STANDARD
END:VTIMEZONE
BEGIN:VEVENT
DTSTART;TZID=UTC:20150912T130000
DTEND;TZID=UTC:20150913T000000
DTSTAMP:20260425T114126
CREATED:20150818T034021Z
LAST-MODIFIED:20150818T034021Z
UID:615859-1442062800-1442102400@wruw.org
SUMMARY:Studio-A-Rama Music Festival 2015
DESCRIPTION:Studio-A-Rama\, WRUW’s annual FREE outdoor music festival\, will feature Man or Astro-man? as headliner and Doug Gillard as special guest! Stay tuned for our lineup of local openers\, who will begin playing at 1 PM.
URL:https://wruw.org/event/studio-a-rama-music-festival-2015/
LOCATION:Mather Memorial Courtyard\, 11220 Bellflower Road\, Cleveland\, OH\, 44106\, United States
CATEGORIES:WRUW
ATTACH;FMTTYPE=image/jpeg:https://wruw.org/wp-content/uploads/2015/08/9706523181_775abd7c2f_o.jpg
END:VEVENT
END:VCALENDAR