BEGIN:VCALENDAR
VERSION:2.0
PRODID:-// - ECPv6.15.17//NONSGML v1.0//EN
CALSCALE:GREGORIAN
METHOD:PUBLISH
X-ORIGINAL-URL:https://wruw.org
X-WR-CALDESC:Events for 
REFRESH-INTERVAL;VALUE=DURATION:PT1H
X-Robots-Tag:noindex
X-PUBLISHED-TTL:PT1H
BEGIN:VTIMEZONE
TZID:America/New_York
BEGIN:DAYLIGHT
TZOFFSETFROM:-0500
TZOFFSETTO:-0400
TZNAME:EDT
DTSTART:20250309T070000
END:DAYLIGHT
BEGIN:STANDARD
TZOFFSETFROM:-0400
TZOFFSETTO:-0500
TZNAME:EST
DTSTART:20251102T060000
END:STANDARD
BEGIN:DAYLIGHT
TZOFFSETFROM:-0500
TZOFFSETTO:-0400
TZNAME:EDT
DTSTART:20260308T070000
END:DAYLIGHT
BEGIN:STANDARD
TZOFFSETFROM:-0400
TZOFFSETTO:-0500
TZNAME:EST
DTSTART:20261101T060000
END:STANDARD
BEGIN:DAYLIGHT
TZOFFSETFROM:-0500
TZOFFSETTO:-0400
TZNAME:EDT
DTSTART:20270314T070000
END:DAYLIGHT
BEGIN:STANDARD
TZOFFSETFROM:-0400
TZOFFSETTO:-0500
TZNAME:EST
DTSTART:20271107T060000
END:STANDARD
END:VTIMEZONE
BEGIN:VEVENT
DTSTART;TZID=America/New_York:20260311T190000
DTEND;TZID=America/New_York:20260311T190000
DTSTAMP:20260419T084236
CREATED:20260224T054726Z
LAST-MODIFIED:20260224T054726Z
UID:761595-1773255600-1773255600@wruw.org
SUMMARY:LaMP: Russ Lawton\, Scott Metzger\, Ray  w/ Da Land Brass Band
DESCRIPTION:Doors 7 PM | Show 8 PM\nALL AGES\n$20 advance / $25 day of show \nInterstate jammers LaMP — featuring Vermont-based Russ Lawton (drums) and Ray Paczkowski (keys)\, alongside Brooklynite Scott Metzger (guitar) — distill singular\, road-honed improv instincts into taut\, instrumental epics. \nWhile each of the players has extensive experience with other gigs — Lawton and Paczkowski with the Trey Anastasio Band (TAB) and Soule Monde\, and Metzger through projects such as Joe Russo’s Almost Dead (JRAD) and Medeski\, Martin\, Metzger & Cline (MMMC) — LaMP has hewed its own path. \nThe trio is currently touring behind their second studio collection\, One Of Us\, that packs 10 tracks into 35-minutes of kaleidoscopic interplay and club-shifting grooves. It’s the cleanest distillation of the LaMP sound yet\, a mission statement of improvisational group-think and compositional chops. \nThroughout its runtime\, One Of Us acts as a showcase for the myriad of sonic ﬂavors LaMP brings to the table\, delivering a listen which works both as deep headphone immersion or a packable-party custom-tailored to deliver the jams to upcoming 2025 tour hangs. \nAs word has spread and crowds have grown with each subsequent tour\, it’s become clear that LaMP ft. Russ Lawton\, Scott Metzger & Ray Paczkowski will be a musical force to be reckoned with for the foreseeable future.
URL:https://wruw.org/event/lamp-russ-lawton-scott-metzger-ray-w-da-land-brass-band/
LOCATION:OH
CATEGORIES:Concert
ATTACH;FMTTYPE=image/jpeg:https://wruw.org/wp-content/uploads/2026/02/Lamp.jpeg
END:VEVENT
END:VCALENDAR