BEGIN:VCALENDAR
VERSION:2.0
PRODID:-// - ECPv6.15.17//NONSGML v1.0//EN
CALSCALE:GREGORIAN
METHOD:PUBLISH
X-ORIGINAL-URL:https://wruw.org
X-WR-CALDESC:Events for 
REFRESH-INTERVAL;VALUE=DURATION:PT1H
X-Robots-Tag:noindex
X-PUBLISHED-TTL:PT1H
BEGIN:VTIMEZONE
TZID:America/New_York
BEGIN:DAYLIGHT
TZOFFSETFROM:-0500
TZOFFSETTO:-0400
TZNAME:EDT
DTSTART:20250309T070000
END:DAYLIGHT
BEGIN:STANDARD
TZOFFSETFROM:-0400
TZOFFSETTO:-0500
TZNAME:EST
DTSTART:20251102T060000
END:STANDARD
BEGIN:DAYLIGHT
TZOFFSETFROM:-0500
TZOFFSETTO:-0400
TZNAME:EDT
DTSTART:20260308T070000
END:DAYLIGHT
BEGIN:STANDARD
TZOFFSETFROM:-0400
TZOFFSETTO:-0500
TZNAME:EST
DTSTART:20261101T060000
END:STANDARD
BEGIN:DAYLIGHT
TZOFFSETFROM:-0500
TZOFFSETTO:-0400
TZNAME:EDT
DTSTART:20270314T070000
END:DAYLIGHT
BEGIN:STANDARD
TZOFFSETFROM:-0400
TZOFFSETTO:-0500
TZNAME:EST
DTSTART:20271107T060000
END:STANDARD
END:VTIMEZONE
BEGIN:VEVENT
DTSTART;TZID=America/New_York:20260307T190000
DTEND;TZID=America/New_York:20260307T190000
DTSTAMP:20260419T084315
CREATED:20260224T043432Z
LAST-MODIFIED:20260224T043432Z
UID:761573-1772910000-1772910000@wruw.org
SUMMARY:Spiritual Cramp w/ GUV / Imploders / The Carp
DESCRIPTION:Doors 7 PM | Show 8 PM\nALL AGES\n$20 advance | $24 day of show\n+ $3 at door if under 21 \nSpiritual Cramp aren’t looking for a soapbox. The San Francisco-born punk experimentalists are here to flash a big smile\, flip you off\, deliver a burst of musical adrenaline\, and then keep on walking. “But at the same time\, that’s something that I’m working on\,” vocalist Michael Bingham knowingly grins. And on their upcoming sophomore album\, RUDE (due TK via Blue Grape Music)\, Spiritual Cramp discover a newfound balance between that impish cheekiness\, emotional vulnerability\, and rabid energy. “When you focus on yourself and the people around you\, you can keep your side of the street clean\,” Bingham says. “And when I see the opposite of that\, I get kind of offended\, which is what a lot of these songs are about.” \nFrom the very first seconds of RUDE’s opening track “I’m an Anarchist”\, Spiritual Cramp make it clear what their side of the street is. The record is framed with the tuning of an FM dial and the voice of DJ Crash (played by percussionist Jose Luna)\, introducing Wild 87 Radio and the “San Francisco rude boy sound.” The fictitious radio station takes its name from the band’s original moniker prior to renaming themselves after a song by southern California rockers Christian Death\, and recurs on the album as a way to keep the band grounded in their SF roots. “My foundation is in San Francisco\, California\, and from there I can go anywhere and be who I am\,” Bingham says. The song that follows the radio intro similarly grounds listeners in the Spiritual Cramp musical language\, Bingham delivering tongue-in-cheek sloganeering (“I’m an anarchist\, so leave me alone”) over clap-along sunshine punk. \nWhile Spiritual Cramp have perfected their kaleidoscopic take on rock over nearly a decade\, the gleeful RUDE marks the start of a new era for the band. Bingham and bassist Mike Fenton have been the band’s constants in that time—not to mention having worked on other projects together prior—and wrote the majority of Spiritual Cramp’s songs on their own across a series of lineup changes. But after a seemingly endless tour in support of their self-titled 2023 debut\, their new lineup of Bingham\, Fenton\, percussionist Luna\, guitarists Nate Punty and Orville Neeley III\, and drummer Julian Smith gelled to the point that the co-founders decided to bring everyone into the room for the writing process. “It really helped give color and energy to the whole record\,” Fenton says. The results are nothing short of ecstatic\, bounding between new wave burn\, indie rock swagger\, old-school punk\, and even dub and hip-hop flourishes
URL:https://wruw.org/event/spiritual-cramp-w-guv-imploders-the-carp/
LOCATION:Grog Shop\, 2785 Euclid Heights Boulevard\, Cleveland Heights\, OH\, 44106\, United States
CATEGORIES:Concert
ATTACH;FMTTYPE=image/jpeg:https://wruw.org/wp-content/uploads/2026/02/Spiritual-Cramp-FB.jpg
END:VEVENT
END:VCALENDAR