BEGIN:VCALENDAR
VERSION:2.0
PRODID:-// - ECPv6.15.17//NONSGML v1.0//EN
CALSCALE:GREGORIAN
METHOD:PUBLISH
X-ORIGINAL-URL:https://wruw.org
X-WR-CALDESC:Events for 
REFRESH-INTERVAL;VALUE=DURATION:PT1H
X-Robots-Tag:noindex
X-PUBLISHED-TTL:PT1H
BEGIN:VTIMEZONE
TZID:America/New_York
BEGIN:DAYLIGHT
TZOFFSETFROM:-0500
TZOFFSETTO:-0400
TZNAME:EDT
DTSTART:20240310T070000
END:DAYLIGHT
BEGIN:STANDARD
TZOFFSETFROM:-0400
TZOFFSETTO:-0500
TZNAME:EST
DTSTART:20241103T060000
END:STANDARD
BEGIN:DAYLIGHT
TZOFFSETFROM:-0500
TZOFFSETTO:-0400
TZNAME:EDT
DTSTART:20250309T070000
END:DAYLIGHT
BEGIN:STANDARD
TZOFFSETFROM:-0400
TZOFFSETTO:-0500
TZNAME:EST
DTSTART:20251102T060000
END:STANDARD
BEGIN:DAYLIGHT
TZOFFSETFROM:-0500
TZOFFSETTO:-0400
TZNAME:EDT
DTSTART:20260308T070000
END:DAYLIGHT
BEGIN:STANDARD
TZOFFSETFROM:-0400
TZOFFSETTO:-0500
TZNAME:EST
DTSTART:20261101T060000
END:STANDARD
END:VTIMEZONE
BEGIN:VEVENT
DTSTART;TZID=America/New_York:20250812T190000
DTEND;TZID=America/New_York:20250812T190000
DTSTAMP:20260419T203313
CREATED:20250721T045907Z
LAST-MODIFIED:20250721T045907Z
UID:759898-1755025200-1755025200@wruw.org
SUMMARY:An Evening with Broncho
DESCRIPTION:Doors 7 PM | Show 8 PM \nALL AGES \nPrepare to be spellbound. Broncho’s ﬁfth studio album\, Natural Pleasure\, doesn’t just ﬂirt with greatness—it obliterates boundaries and redeﬁnes what an indie rock album can be. This is more than music; it’s an odyssey of sound\, a kaleidoscopic dreamscape where lo-ﬁ textures collide with psychedelic wonder. Imagine Radiohead’s Kid A ﬁltered through a haze of pot smoke and reimagined for a generation craving both grit and transcendence. This is an album meant to be savored with headphones\, a masterful contender for Indie Rock Album of the Year and a long-playing experience that invites listeners to lose themselves in its rich textures and hypnotic soundscapes. \nBroncho has always been synonymous with reinvention\, and Natural Pleasure marks their boldest transformation yet. This long-awaited follow-up to 2018’s Bad Behavior dives headﬁrst into lush\, hypnotic atmospheres without abandoning the raw\, gritty energy that made them a household name in indie rock. The Tulsa-based quartet—Ryan Lindsey (vocals)\, Ben King (guitar)\, Penny Pitchlynn (bass)\, and Nathan Price (drums)—has crafted a sound that’s as intimate as it is otherworldly\, blending introspection with euphoric release. \nSince their breakout hit “Class Historian” in 2014\, Broncho has been at the forefront of indie innovation\, earning accolades from legends like Josh Homme and Jack White. Their music\, equal parts gritty rock and dreamy psychedelia\, has found its way onto HBO’s Girls\, Apple’s Platonic\, and FX’s Reservation Dogs\, further cementing their status as cultural touchstones. But Tulsa remains their spiritual home\, a city whose musical lineage—from Leon Russell and JJ Cale to The Flaming Lips—infuses every note they play.
URL:https://wruw.org/event/an-evening-with-broncho/
LOCATION:Beachland Ballroom\, 15711 Waterloo Rd.\, Cleveland\, OH\, 44110\, United States
CATEGORIES:Concert
ATTACH;FMTTYPE=image/jpeg:https://wruw.org/wp-content/uploads/2025/07/BRoncho.jpg
END:VEVENT
END:VCALENDAR