BEGIN:VCALENDAR
VERSION:2.0
PRODID:-// - ECPv6.15.17//NONSGML v1.0//EN
CALSCALE:GREGORIAN
METHOD:PUBLISH
X-ORIGINAL-URL:https://wruw.org
X-WR-CALDESC:Events for 
REFRESH-INTERVAL;VALUE=DURATION:PT1H
X-Robots-Tag:noindex
X-PUBLISHED-TTL:PT1H
BEGIN:VTIMEZONE
TZID:America/New_York
BEGIN:DAYLIGHT
TZOFFSETFROM:-0500
TZOFFSETTO:-0400
TZNAME:EDT
DTSTART:20240310T070000
END:DAYLIGHT
BEGIN:STANDARD
TZOFFSETFROM:-0400
TZOFFSETTO:-0500
TZNAME:EST
DTSTART:20241103T060000
END:STANDARD
BEGIN:DAYLIGHT
TZOFFSETFROM:-0500
TZOFFSETTO:-0400
TZNAME:EDT
DTSTART:20250309T070000
END:DAYLIGHT
BEGIN:STANDARD
TZOFFSETFROM:-0400
TZOFFSETTO:-0500
TZNAME:EST
DTSTART:20251102T060000
END:STANDARD
BEGIN:DAYLIGHT
TZOFFSETFROM:-0500
TZOFFSETTO:-0400
TZNAME:EDT
DTSTART:20260308T070000
END:DAYLIGHT
BEGIN:STANDARD
TZOFFSETFROM:-0400
TZOFFSETTO:-0500
TZNAME:EST
DTSTART:20261101T060000
END:STANDARD
END:VTIMEZONE
BEGIN:VEVENT
DTSTART;TZID=America/New_York:20250801T190000
DTEND;TZID=America/New_York:20250801T190000
DTSTAMP:20260419T203507
CREATED:20250721T041333Z
LAST-MODIFIED:20250801T005627Z
UID:759892-1754074800-1754074800@wruw.org
SUMMARY:Wild Rivers w/ verygently
DESCRIPTION:Doors 7 PM | Show 8 PM \nALL AGES \nPlatinum-selling indie trio Wild Rivers\, Khalid Yassein [guitar\, vocals\, keys]\, Devan Glover [vocals]\, and Andrew Oliver [lead guitar\, synths]\, have a gift for penning introspective lyrics and genre-fluid melodies that transmit wisdom beyond their years. That expertise can be found across their new album\, Better Now —a companion to their latest record\, Never Better\, released this past July. \nRecorded at the same time in Joshua Tree\, CA with producer Gabe Wax (known for his work with artists such as Soccer Mommy and Adrienne Lenker)\, both Never Better and Better Now are filled with the band’s “inventive melodies\, rich harmonies\, and lush instrumentals” (Associated Press) and reflect their personal and creative growth the past few years\, as they’ve faced burnout\, mental health challenges and the complicated\, confusing and unknown realities of life in their twenties. \nBorn in Canada\, Khalid\, who is half-Egyptian\, and Devan\, who spent her childhood in London\, England\, before returning to Canada\, first connected at Queen’s University in Kingston in 2013. Starting out as an acoustic singer-songwriter project\, Khalid and Devan expanded their aesthetic to a more full-bodied sound\, adding multi-instrumentalist Andrew\, whom Khalid calls their “Swiss army knife.” \nSonically\, Wild Rivers pull from a spectrum of sounds\, imbuing pop\, rock\, indie\, and folk into each song’s blueprint. Devan explains\, “We all converge on the classic songwriters. Paul Simon\, Joni Mitchell\, Neil Young\, Fleetwood Mac\, The Beatles and Elton John. Then today\, we have influences across the map\, indie\, hip hop\, R&B\, and pop. But even in those genres\, most of those artists are referencing another era of music\, which we think is really cool. We like to pull our favorite parts of every genre and patch them together and see what works and see what feels good.”
URL:https://wruw.org/event/wild-rivers-w-everywhere-we-go-verygently/
LOCATION:Globe Iron\, 2325 Elm St.\, Cleveland\, OH\, 44113\, United States
CATEGORIES:Concert
ATTACH;FMTTYPE=image/jpeg:https://wruw.org/wp-content/uploads/2025/07/0801-Cleveland-WildRivers-1200x1200-1-e1753071059735.jpg
END:VEVENT
END:VCALENDAR