BEGIN:VCALENDAR
VERSION:2.0
PRODID:-// - ECPv6.15.17//NONSGML v1.0//EN
CALSCALE:GREGORIAN
METHOD:PUBLISH
X-ORIGINAL-URL:https://wruw.org
X-WR-CALDESC:Events for 
REFRESH-INTERVAL;VALUE=DURATION:PT1H
X-Robots-Tag:noindex
X-PUBLISHED-TTL:PT1H
BEGIN:VTIMEZONE
TZID:America/New_York
BEGIN:DAYLIGHT
TZOFFSETFROM:-0500
TZOFFSETTO:-0400
TZNAME:EDT
DTSTART:20240310T070000
END:DAYLIGHT
BEGIN:STANDARD
TZOFFSETFROM:-0400
TZOFFSETTO:-0500
TZNAME:EST
DTSTART:20241103T060000
END:STANDARD
BEGIN:DAYLIGHT
TZOFFSETFROM:-0500
TZOFFSETTO:-0400
TZNAME:EDT
DTSTART:20250309T070000
END:DAYLIGHT
BEGIN:STANDARD
TZOFFSETFROM:-0400
TZOFFSETTO:-0500
TZNAME:EST
DTSTART:20251102T060000
END:STANDARD
BEGIN:DAYLIGHT
TZOFFSETFROM:-0500
TZOFFSETTO:-0400
TZNAME:EDT
DTSTART:20260308T070000
END:DAYLIGHT
BEGIN:STANDARD
TZOFFSETFROM:-0400
TZOFFSETTO:-0500
TZNAME:EST
DTSTART:20261101T060000
END:STANDARD
END:VTIMEZONE
BEGIN:VEVENT
DTSTART;TZID=America/New_York:20250726T190000
DTEND;TZID=America/New_York:20250726T190000
DTSTAMP:20260419T222533
CREATED:20250721T040431Z
LAST-MODIFIED:20250721T040445Z
UID:759890-1753556400-1753556400@wruw.org
SUMMARY:New Bomb Turks w/ The Drowns & DJ Matt Feeney
DESCRIPTION:Doors 7 PM | Show 8 PM \nALL AGES \nBorn in the 1990s in Columbus\, Ohio\, New Bomb Turks are one of those groups that will forever mark the punk rock story. To see a concert of the quartet is to live a forbidden experience\, a moment suspended between madness\, screams\, trances and electric shocks. The leader Eric Davidson does not come on stage\, he takes it and leaves it only once the public ko standing. Their records have been published by the best American punks\, from Crypt to Epitaph\, from Fat Wreck Chords to Gearhead.
URL:https://wruw.org/event/new-bomb-turks-w-the-drowns-dj-matt-feeney-2/
LOCATION:Beachland Ballroom\, 15711 Waterloo Rd.\, Cleveland\, OH\, 44110\, United States
CATEGORIES:Concert
ATTACH;FMTTYPE=image/jpeg:https://wruw.org/wp-content/uploads/2025/07/NBT-FB-Banner.jpg
END:VEVENT
END:VCALENDAR