BEGIN:VCALENDAR
VERSION:2.0
PRODID:-// - ECPv6.15.17//NONSGML v1.0//EN
CALSCALE:GREGORIAN
METHOD:PUBLISH
X-ORIGINAL-URL:https://wruw.org
X-WR-CALDESC:Events for 
REFRESH-INTERVAL;VALUE=DURATION:PT1H
X-Robots-Tag:noindex
X-PUBLISHED-TTL:PT1H
BEGIN:VTIMEZONE
TZID:America/New_York
BEGIN:DAYLIGHT
TZOFFSETFROM:-0500
TZOFFSETTO:-0400
TZNAME:EDT
DTSTART:20240310T070000
END:DAYLIGHT
BEGIN:STANDARD
TZOFFSETFROM:-0400
TZOFFSETTO:-0500
TZNAME:EST
DTSTART:20241103T060000
END:STANDARD
BEGIN:DAYLIGHT
TZOFFSETFROM:-0500
TZOFFSETTO:-0400
TZNAME:EDT
DTSTART:20250309T070000
END:DAYLIGHT
BEGIN:STANDARD
TZOFFSETFROM:-0400
TZOFFSETTO:-0500
TZNAME:EST
DTSTART:20251102T060000
END:STANDARD
BEGIN:DAYLIGHT
TZOFFSETFROM:-0500
TZOFFSETTO:-0400
TZNAME:EDT
DTSTART:20260308T070000
END:DAYLIGHT
BEGIN:STANDARD
TZOFFSETFROM:-0400
TZOFFSETTO:-0500
TZNAME:EST
DTSTART:20261101T060000
END:STANDARD
END:VTIMEZONE
BEGIN:VEVENT
DTSTART;TZID=America/New_York:20250725T183000
DTEND;TZID=America/New_York:20250725T183000
DTSTAMP:20260419T222533
CREATED:20250704T022846Z
LAST-MODIFIED:20250704T022846Z
UID:759768-1753468200-1753468200@wruw.org
SUMMARY:The Decemberists w/ Merce Lemon
DESCRIPTION:Friday\, July 25 \nThe Decemberists w/ Merce Lemon at TempleLive \nDoors 6:30 PM | Show 8:00 PM \nALL AGES \nThe Decemberists are an American indie rock band from Portland\, Oregon\, formed in 2000. The band consists of Colin Meloy\, Chris Funk\, Jenny Conlee\, Nate Query\, and John Moen. As of 2024\, the band has released nine studio albums with their lyrics often focusing on historical incidents and folklore. \nThe mezzanine and balcony are accessible only by stairs. The Decemberists have partnered with PLUS1 so that $1 per ticket goes to supporting organizations working for equity\, access\, and dignity for all. www.plus1.org
URL:https://wruw.org/event/the-decemberists-w-merce-lemon/
LOCATION:TempleLive\, 3615 Euclid Avenue\, Cleveland\, OH\, 44115\, United States
CATEGORIES:Concert
ATTACH;FMTTYPE=image/jpeg:https://wruw.org/wp-content/uploads/2025/07/The-Decemberists-FB-Banner.jpg
END:VEVENT
END:VCALENDAR