BEGIN:VCALENDAR
VERSION:2.0
PRODID:-// - ECPv6.15.17//NONSGML v1.0//EN
CALSCALE:GREGORIAN
METHOD:PUBLISH
X-ORIGINAL-URL:https://wruw.org
X-WR-CALDESC:Events for 
REFRESH-INTERVAL;VALUE=DURATION:PT1H
X-Robots-Tag:noindex
X-PUBLISHED-TTL:PT1H
BEGIN:VTIMEZONE
TZID:America/New_York
BEGIN:DAYLIGHT
TZOFFSETFROM:-0500
TZOFFSETTO:-0400
TZNAME:EDT
DTSTART:20240310T070000
END:DAYLIGHT
BEGIN:STANDARD
TZOFFSETFROM:-0400
TZOFFSETTO:-0500
TZNAME:EST
DTSTART:20241103T060000
END:STANDARD
BEGIN:DAYLIGHT
TZOFFSETFROM:-0500
TZOFFSETTO:-0400
TZNAME:EDT
DTSTART:20250309T070000
END:DAYLIGHT
BEGIN:STANDARD
TZOFFSETFROM:-0400
TZOFFSETTO:-0500
TZNAME:EST
DTSTART:20251102T060000
END:STANDARD
BEGIN:DAYLIGHT
TZOFFSETFROM:-0500
TZOFFSETTO:-0400
TZNAME:EDT
DTSTART:20260308T070000
END:DAYLIGHT
BEGIN:STANDARD
TZOFFSETFROM:-0400
TZOFFSETTO:-0500
TZNAME:EST
DTSTART:20261101T060000
END:STANDARD
END:VTIMEZONE
BEGIN:VEVENT
DTSTART;TZID=America/New_York:20250724T190000
DTEND;TZID=America/New_York:20250724T190000
DTSTAMP:20260419T222534
CREATED:20250507T023139Z
LAST-MODIFIED:20250507T023139Z
UID:759463-1753383600-1753383600@wruw.org
SUMMARY:Deep Sea Diver w/ Meerna
DESCRIPTION:THU July 24\, 2025 \nALL AGES \nDoors: 7 PM \nIn the middle of July 2023 in a Los Angeles studio\, Deep Sea Diver mastermind Jessica Dobson took a guitar solo but somehow felt nothing. Just days earlier\, her Seattle band played a series of semi-secret shows for devotees at a hometown bar\, de facto rehearsals for cutting a new record. The sets had gone well\, but\, almost immediately\, the sessions didn’t. The songs’ essence seemed muddled\, Dobson’s conviction lost somewhere in the 1\,000 miles between Southern California and the home studio she shares with partner\, drummer\, and frequent cowriter Peter Mansen. On that first night in Los Angeles\, she broke down\, wondering what she was doing there\, what her band could do to fix it. For the first time ever\, Deep Sea Diver retreated\, heading home without an album. Did they need to scrap it all\, to begin again with new material? \nNot at all: Following a brief break\, Dobson found a renewed sense of self\, a trust in her vision for her band and songs and her ability to capture them. After that Los Angeles hiccup\, longtime collaborator Andy Park asked Dobson how the new stuff was going over an early fall dinner. She admitted she needed help. In that humbling confession\, she soon found ways of working that helped her reimagine and reinvigorate Deep Sea Diver and led directly to the power and brilliance of Billboard Heart\, Deep Sea Diver’s fourth album and first for Sub Pop. It is a coup\, a triumph over self-doubt in which what first felt like failure became an opportunity to find new freedom\, belief\, and strength. You can hear it in each of these 11 songs\, the beating heart that makes everything here feel like a new anthem for finding your own way forward.
URL:https://wruw.org/event/deep-sea-diver-w-meerna/
LOCATION:Grog Shop\, 2785 Euclid Heights Boulevard\, Cleveland Heights\, OH\, 44106\, United States
CATEGORIES:Concert
ATTACH;FMTTYPE=image/jpeg:https://wruw.org/wp-content/uploads/2025/05/Deep-Sea-Diver-FB-Event.jpg
END:VEVENT
END:VCALENDAR