BEGIN:VCALENDAR
VERSION:2.0
PRODID:-// - ECPv6.15.17//NONSGML v1.0//EN
CALSCALE:GREGORIAN
METHOD:PUBLISH
X-ORIGINAL-URL:https://wruw.org
X-WR-CALDESC:Events for 
REFRESH-INTERVAL;VALUE=DURATION:PT1H
X-Robots-Tag:noindex
X-PUBLISHED-TTL:PT1H
BEGIN:VTIMEZONE
TZID:America/New_York
BEGIN:DAYLIGHT
TZOFFSETFROM:-0500
TZOFFSETTO:-0400
TZNAME:EDT
DTSTART:20240310T070000
END:DAYLIGHT
BEGIN:STANDARD
TZOFFSETFROM:-0400
TZOFFSETTO:-0500
TZNAME:EST
DTSTART:20241103T060000
END:STANDARD
BEGIN:DAYLIGHT
TZOFFSETFROM:-0500
TZOFFSETTO:-0400
TZNAME:EDT
DTSTART:20250309T070000
END:DAYLIGHT
BEGIN:STANDARD
TZOFFSETFROM:-0400
TZOFFSETTO:-0500
TZNAME:EST
DTSTART:20251102T060000
END:STANDARD
BEGIN:DAYLIGHT
TZOFFSETFROM:-0500
TZOFFSETTO:-0400
TZNAME:EDT
DTSTART:20260308T070000
END:DAYLIGHT
BEGIN:STANDARD
TZOFFSETFROM:-0400
TZOFFSETTO:-0500
TZNAME:EST
DTSTART:20261101T060000
END:STANDARD
END:VTIMEZONE
BEGIN:VEVENT
DTSTART;TZID=America/New_York:20250723T173000
DTEND;TZID=America/New_York:20250723T173000
DTSTAMP:20260419T222846
CREATED:20250721T060724Z
LAST-MODIFIED:20250721T060724Z
UID:759919-1753291800-1753291800@wruw.org
SUMMARY:Wade Oval Wednesdays: Cream Camino
DESCRIPTION:5:30 – 8:30 PM \nALL AGES\nFREE \nCream Camino is a dynamic alt-rock band hailing from Ohio’s capital city and recognized as one of the most compelling live music acts in the Midwest. Influenced by rock legends such as Roger Waters\, Jimi Hendrix\, and John Bonham\, illustrate the powerhouse sounds Cream Camino strives to achieve with every note. Their lively performances mixes in unforgettable original songs that quickly become an ear-worm\, alongside cover songs played in a way that makes you feel like you’re hearing the song for the first time again. \n\nOpener: Mirabelle Kajenjeri (Piano Cleveland)\nRoaming Entertainment: hula hoops with Gerri\, Pickup Stix Stilt Walking\, a juggler\, and Christa Freehands\n\nFood Vendors: \n\nKernels by Chrissie\nDeal’s Fresh Lemonade\nJuicy Vegan\nLu Jax\nCleveland Fish & Seafood\nRascal House Pizza\nCheesy Dave’s\nSquash the Beef\nCarter’s BBQ\nSweet Doughlights\nLe Scoop\n\nOnsite Sponsors & Partners: \n\nCleveland Public Library Book Box & Tech Van\nFirst National Bank\nCleveland Division of Waste Collections and Disposal\nCleveland Public Safety\nUniversity Circle Police Department
URL:https://wruw.org/event/wade-oval-wednesdays-cream-camino/
LOCATION:Wade Oval\, 10820 East Blvd.\, Cleveland\, OH\, 44106\, United States
CATEGORIES:Concert
ATTACH;FMTTYPE=image/jpeg:https://wruw.org/wp-content/uploads/2025/07/Wade-Oval-Wednesday.jpg
END:VEVENT
BEGIN:VEVENT
DTSTART;TZID=America/New_York:20250723T183000
DTEND;TZID=America/New_York:20250723T183000
DTSTAMP:20260419T222846
CREATED:20250721T055245Z
LAST-MODIFIED:20250721T055245Z
UID:759916-1753295400-1753295400@wruw.org
SUMMARY:City Stages: Las Karambas
DESCRIPTION:Wednesday\, July 23\, 7:30 p.m.\nLas Karamba (Spain) \nFounded in the midst of the bustling streets of Barcelona\, Las Karamba consists of six women musicians who are mestizas and migrants from Venezuela\, Cuba\, Catalonia\, France\, and Argentina. Together\, they create new\, timeless\, danceable music that includes traditional styles—including son\, cha-cha-cha\, salsa\, and timba—influenced by rap and urban music\, as well as a touch of samba and rumba. With the band’s formation\, six life stories converged\, each individually shaped by migration and musical heritage. \nMove and groove at City Stages\, the CMA’s famous block parties that take place in front of Transformer Station and feature the best in global music. Arrive early and grab dinner and a drink at one of Ohio City’s bars or restaurants\, or visit one of the local shops. Hang out in the Transformer Station beer garden and enjoy tacos from the Puente’s Tijuana Tacos food truck. \nSeating is limited—bring camp chairs and delight in an evening of music and dancing in the street. \nFree parking is available in the Lutheran Hospital lot located at West 28th Street and Franklin Boulevard.
URL:https://wruw.org/event/city-stages-las-karambas/
LOCATION:Transformer Station\, 2811 Church Ave\, Clevland\, OH\, 44113\, United States
CATEGORIES:Concert,Live Remote
ATTACH;FMTTYPE=image/jpeg:https://wruw.org/wp-content/uploads/2025/07/Las-Karamba.jpg
END:VEVENT
END:VCALENDAR