BEGIN:VCALENDAR
VERSION:2.0
PRODID:-// - ECPv6.15.17//NONSGML v1.0//EN
CALSCALE:GREGORIAN
METHOD:PUBLISH
X-ORIGINAL-URL:https://wruw.org
X-WR-CALDESC:Events for 
REFRESH-INTERVAL;VALUE=DURATION:PT1H
X-Robots-Tag:noindex
X-PUBLISHED-TTL:PT1H
BEGIN:VTIMEZONE
TZID:America/New_York
BEGIN:DAYLIGHT
TZOFFSETFROM:-0500
TZOFFSETTO:-0400
TZNAME:EDT
DTSTART:20240310T070000
END:DAYLIGHT
BEGIN:STANDARD
TZOFFSETFROM:-0400
TZOFFSETTO:-0500
TZNAME:EST
DTSTART:20241103T060000
END:STANDARD
BEGIN:DAYLIGHT
TZOFFSETFROM:-0500
TZOFFSETTO:-0400
TZNAME:EDT
DTSTART:20250309T070000
END:DAYLIGHT
BEGIN:STANDARD
TZOFFSETFROM:-0400
TZOFFSETTO:-0500
TZNAME:EST
DTSTART:20251102T060000
END:STANDARD
BEGIN:DAYLIGHT
TZOFFSETFROM:-0500
TZOFFSETTO:-0400
TZNAME:EDT
DTSTART:20260308T070000
END:DAYLIGHT
BEGIN:STANDARD
TZOFFSETFROM:-0400
TZOFFSETTO:-0500
TZNAME:EST
DTSTART:20261101T060000
END:STANDARD
END:VTIMEZONE
BEGIN:VEVENT
DTSTART;TZID=America/New_York:20250713T200000
DTEND;TZID=America/New_York:20250713T200000
DTSTAMP:20260419T222844
CREATED:20250523T022226Z
LAST-MODIFIED:20250523T022242Z
UID:759523-1752436800-1752436800@wruw.org
SUMMARY:Electric Citizen w/ Magick Potion and ALBUM
DESCRIPTION:SUN July 13\, 2025\nDoors 7 PM | Show 8 PM\nALL AGES \nSeven years after their last release (Helltown\, 2018)\, Electric Citizen returns with their fourth album\, EC4—a powerful statement of renewal and raw energy. The album was meticulously crafted over several years and recorded with Mike Montgomery and John Hoffman at Candyland Studio in Dayton\, KY. The album was mixed by Collin Dupuis (Lana Del Rey\, The Black Keys) in Detroit and mastered by JJ Golden at Golden Mastering in California. The album art was created by Neil Krug (Lana Del Rey\, Tame Impala\, Weyes Blood)\, who the band worked with for their first album\, Sateen. Now signed to Heavy Psych Sounds\, the band is ready to unleash their most potent work yet—a fusion of hypnotic grooves\, searing guitars\, and Laura Dolan’s spellbinding vocals. EC4 is both a homecoming and a rebirth. Electric Citizen is back!
URL:https://wruw.org/event/electric-citizen-w-magick-potion-album/
LOCATION:Grog Shop\, 2785 Euclid Heights Boulevard\, Cleveland Heights\, OH\, 44106\, United States
CATEGORIES:Concert
ATTACH;FMTTYPE=image/png:https://wruw.org/wp-content/uploads/2025/05/electric-citizen-fb-banner.png
END:VEVENT
END:VCALENDAR