BEGIN:VCALENDAR
VERSION:2.0
PRODID:-// - ECPv6.15.17//NONSGML v1.0//EN
CALSCALE:GREGORIAN
METHOD:PUBLISH
X-ORIGINAL-URL:https://wruw.org
X-WR-CALDESC:Events for 
REFRESH-INTERVAL;VALUE=DURATION:PT1H
X-Robots-Tag:noindex
X-PUBLISHED-TTL:PT1H
BEGIN:VTIMEZONE
TZID:America/New_York
BEGIN:DAYLIGHT
TZOFFSETFROM:-0500
TZOFFSETTO:-0400
TZNAME:EDT
DTSTART:20240310T070000
END:DAYLIGHT
BEGIN:STANDARD
TZOFFSETFROM:-0400
TZOFFSETTO:-0500
TZNAME:EST
DTSTART:20241103T060000
END:STANDARD
BEGIN:DAYLIGHT
TZOFFSETFROM:-0500
TZOFFSETTO:-0400
TZNAME:EDT
DTSTART:20250309T070000
END:DAYLIGHT
BEGIN:STANDARD
TZOFFSETFROM:-0400
TZOFFSETTO:-0500
TZNAME:EST
DTSTART:20251102T060000
END:STANDARD
BEGIN:DAYLIGHT
TZOFFSETFROM:-0500
TZOFFSETTO:-0400
TZNAME:EDT
DTSTART:20260308T070000
END:DAYLIGHT
BEGIN:STANDARD
TZOFFSETFROM:-0400
TZOFFSETTO:-0500
TZNAME:EST
DTSTART:20261101T060000
END:STANDARD
END:VTIMEZONE
BEGIN:VEVENT
DTSTART;TZID=America/New_York:20250712T183000
DTEND;TZID=America/New_York:20250712T183000
DTSTAMP:20260419T222846
CREATED:20250704T015732Z
LAST-MODIFIED:20250704T015732Z
UID:759762-1752345000-1752345000@wruw.org
SUMMARY:Wax Mage 10th Anniversary Festival
DESCRIPTION:Saturday\, July 12 \nWax Mage Records 10th Anniversary Festival at Grog Shop! \nDoors 6 PM | Show 7 PM\nALL AGES\n$20 ADV / $25 DOS\n+ $3 at door if under 21 \nWax Mage Records celebrates 10 years in business with a showcase of bands with releases on the boutique label\, specializing in award-winning\, custom vinyl made in Cleveland\, Ohio at Gotta Groove! \nPerforming will be Songs For An Unknown God\, Wish Queen\, Pal\, Radderall\, and Chayla Hope plus vendors and more TBA. \nAll advance ticket buyers will be entered to win a stacked Wax Mage Records prize pack!
URL:https://wruw.org/event/wax-mage-10th-anniversary-festival/
LOCATION:Grog Shop\, 2785 Euclid Heights Boulevard\, Cleveland Heights\, OH\, 44106\, United States
CATEGORIES:Concert
ATTACH;FMTTYPE=image/jpeg:https://wruw.org/wp-content/uploads/2025/07/WMF-FB-1920-scaled.jpeg
END:VEVENT
END:VCALENDAR