BEGIN:VCALENDAR
VERSION:2.0
PRODID:-// - ECPv6.15.17//NONSGML v1.0//EN
CALSCALE:GREGORIAN
METHOD:PUBLISH
X-ORIGINAL-URL:https://wruw.org
X-WR-CALDESC:Events for 
REFRESH-INTERVAL;VALUE=DURATION:PT1H
X-Robots-Tag:noindex
X-PUBLISHED-TTL:PT1H
BEGIN:VTIMEZONE
TZID:America/New_York
BEGIN:DAYLIGHT
TZOFFSETFROM:-0500
TZOFFSETTO:-0400
TZNAME:EDT
DTSTART:20240310T070000
END:DAYLIGHT
BEGIN:STANDARD
TZOFFSETFROM:-0400
TZOFFSETTO:-0500
TZNAME:EST
DTSTART:20241103T060000
END:STANDARD
BEGIN:DAYLIGHT
TZOFFSETFROM:-0500
TZOFFSETTO:-0400
TZNAME:EDT
DTSTART:20250309T070000
END:DAYLIGHT
BEGIN:STANDARD
TZOFFSETFROM:-0400
TZOFFSETTO:-0500
TZNAME:EST
DTSTART:20251102T060000
END:STANDARD
BEGIN:DAYLIGHT
TZOFFSETFROM:-0500
TZOFFSETTO:-0400
TZNAME:EDT
DTSTART:20260308T070000
END:DAYLIGHT
BEGIN:STANDARD
TZOFFSETFROM:-0400
TZOFFSETTO:-0500
TZNAME:EST
DTSTART:20261101T060000
END:STANDARD
END:VTIMEZONE
BEGIN:VEVENT
DTSTART;TZID=America/New_York:20250615T190000
DTEND;TZID=America/New_York:20250615T190000
DTSTAMP:20260420T001440
CREATED:20250507T024945Z
LAST-MODIFIED:20250507T024945Z
UID:759466-1750014000-1750014000@wruw.org
SUMMARY:Illuminati Hotties w/ Georgia Maq & allie
DESCRIPTION:SUN June 15\, 2015\nALL AGES\nDoors: 7 PM\nListen to WRUW-FM to win a pair of tickets to see Superchunk on September 17 at Grog Shop!\nSarah Tudzin is in high demand these days. Not only is she a lauded engineer and producer who has helmed recent records by boygenius\, Weyes Blood\, and Speedy Ortiz\, but her own band\, Illuminati Hotties\, has also emerged as one of the sharpest and most sensitive acts on the pop-punk side of indie rock this century tender-punk\, she has often called it. On Illuminati Hotties radiant and bittersweet third LP\, Power\, Tudzin pairs that sense of modern professional busyness with scenes inspired by the extreme highs and lows of her personal life in recent years. To wit\, the day before Tudzin released 2020s surprise Free I.H\, her mother died. But weeks before that\, Tudzin had met the person who has since become her longtime partner\, the one with whom she can share all these troubles. Its not hard to imagine\, then\, all that propels Power.\n\nThis is an album\, though\, neither about loss nor love but instead about the life that we live amidst such ups and downs. While there are some beautiful blues here\, like the tender finale Everything Changes or the haunted Rot\, Tudzin mostly looks for an exuberant way through these tangles. The inescapable Falling in Love with Somebody Better is a pop-punk treasure where she wishes her mom had met her new love\, while the breezy Sleeping In finds contentment in the compromises that a good relationship demands. Loaded with guests who alternately complement Tudzin’s unfailing melodic instincts (Cavetown\, Death Cab for Cuties Jason McGerr\, John Congleton) or help her cut loose from them (especially Speedy Ortiz’s Sadie Dupuis during the riotous Whats the Fuzz)\, Power is a prime culmination of all the things that have kept Tudzin busy in recent years\, her skills in the studio\, her knack for a hook\, or the mere travails and triumphs of existence itself.
URL:https://wruw.org/event/illuminati-hotties-w-georgia-maq-allie/
LOCATION:Grog Shop\, 2785 Euclid Heights Boulevard\, Cleveland Heights\, OH\, 44106\, United States
CATEGORIES:Concert
ATTACH;FMTTYPE=image/jpeg:https://wruw.org/wp-content/uploads/2025/05/Illuminati-Hotties-FB-Banner.jpg
END:VEVENT
END:VCALENDAR