BEGIN:VCALENDAR
VERSION:2.0
PRODID:-// - ECPv6.15.17//NONSGML v1.0//EN
CALSCALE:GREGORIAN
METHOD:PUBLISH
X-ORIGINAL-URL:https://wruw.org
X-WR-CALDESC:Events for 
REFRESH-INTERVAL;VALUE=DURATION:PT1H
X-Robots-Tag:noindex
X-PUBLISHED-TTL:PT1H
BEGIN:VTIMEZONE
TZID:America/New_York
BEGIN:DAYLIGHT
TZOFFSETFROM:-0500
TZOFFSETTO:-0400
TZNAME:EDT
DTSTART:20240310T070000
END:DAYLIGHT
BEGIN:STANDARD
TZOFFSETFROM:-0400
TZOFFSETTO:-0500
TZNAME:EST
DTSTART:20241103T060000
END:STANDARD
BEGIN:DAYLIGHT
TZOFFSETFROM:-0500
TZOFFSETTO:-0400
TZNAME:EDT
DTSTART:20250309T070000
END:DAYLIGHT
BEGIN:STANDARD
TZOFFSETFROM:-0400
TZOFFSETTO:-0500
TZNAME:EST
DTSTART:20251102T060000
END:STANDARD
BEGIN:DAYLIGHT
TZOFFSETFROM:-0500
TZOFFSETTO:-0400
TZNAME:EDT
DTSTART:20260308T070000
END:DAYLIGHT
BEGIN:STANDARD
TZOFFSETFROM:-0400
TZOFFSETTO:-0500
TZNAME:EST
DTSTART:20261101T060000
END:STANDARD
END:VTIMEZONE
BEGIN:VEVENT
DTSTART;TZID=America/New_York:20250613T190000
DTEND;TZID=America/New_York:20250613T190000
DTSTAMP:20260420T001618
CREATED:20250507T030129Z
LAST-MODIFIED:20250507T030129Z
UID:759469-1749841200-1749841200@wruw.org
SUMMARY:Pete Francis (Founding Member of Dispatch) w/ C-Level\, Brahctopus\, and Songs For An Unknown God
DESCRIPTION:FRI June 13\, 2025 \nALL AGES \nDoors: 7 PM \nOn June 13th C-Level is releasing “Long Legged Fly” the first single from their upcoming fifth studio album. The song features one of their biggest musical influences\, Pete Francis (formerly of Dispatch) on guitar and vocals.\n\n\nTo celebrate this release Pete is coming to Cleveland to perform. This will be the first time Pete’s performed solo in Cleveland since 2008. Pete’s set will consist of solo intimate acoustic performances as well as fully backed rockers in which C-Level will be Pete’s backing band.
URL:https://wruw.org/event/pete-francis-founding-member-of-dispatch-w-c-level-brahctopus-and-songs-for-an-unknown-god/
LOCATION:The Winchester\, 12112 Madison Ave\, Lakewood\, OH\, 44107\, United States
CATEGORIES:Concert
ATTACH;FMTTYPE=image/jpeg:https://wruw.org/wp-content/uploads/2025/05/Pete-Francis-banner.jpg
END:VEVENT
END:VCALENDAR