BEGIN:VCALENDAR
VERSION:2.0
PRODID:-// - ECPv6.15.17//NONSGML v1.0//EN
CALSCALE:GREGORIAN
METHOD:PUBLISH
X-ORIGINAL-URL:https://wruw.org
X-WR-CALDESC:Events for 
REFRESH-INTERVAL;VALUE=DURATION:PT1H
X-Robots-Tag:noindex
X-PUBLISHED-TTL:PT1H
BEGIN:VTIMEZONE
TZID:America/New_York
BEGIN:DAYLIGHT
TZOFFSETFROM:-0500
TZOFFSETTO:-0400
TZNAME:EDT
DTSTART:20240310T070000
END:DAYLIGHT
BEGIN:STANDARD
TZOFFSETFROM:-0400
TZOFFSETTO:-0500
TZNAME:EST
DTSTART:20241103T060000
END:STANDARD
BEGIN:DAYLIGHT
TZOFFSETFROM:-0500
TZOFFSETTO:-0400
TZNAME:EDT
DTSTART:20250309T070000
END:DAYLIGHT
BEGIN:STANDARD
TZOFFSETFROM:-0400
TZOFFSETTO:-0500
TZNAME:EST
DTSTART:20251102T060000
END:STANDARD
BEGIN:DAYLIGHT
TZOFFSETFROM:-0500
TZOFFSETTO:-0400
TZNAME:EDT
DTSTART:20260308T070000
END:DAYLIGHT
BEGIN:STANDARD
TZOFFSETFROM:-0400
TZOFFSETTO:-0500
TZNAME:EST
DTSTART:20261101T060000
END:STANDARD
END:VTIMEZONE
BEGIN:VEVENT
DTSTART;TZID=America/New_York:20250610T183000
DTEND;TZID=America/New_York:20250610T183000
DTSTAMP:20260420T001620
CREATED:20250516T024304Z
LAST-MODIFIED:20250516T024304Z
UID:759494-1749580200-1749580200@wruw.org
SUMMARY:Lords of Acid w/ Little Miss Nasty\, Lucia Cifarelli from KMFDM\, and Tomorrow's Ghosts
DESCRIPTION:TUE\, JUN 1016+Doors 6:30PM \nKnown for their iconic mix of industrial\, electro\, and dance music\, Lords of Acid has been shaking the foundations of the music world since the early ’90s with hits like “Pussy” and “I Sit on Acid.” Their live shows are notorious for their energy\, boundary-pushing visuals\, and relentless dance grooves. This tour marks a monumental chapter in the band’s long standing legacy and a new chapter as former Butcher Babies singer CARLA HARVEY joins the band. \nLittle Miss Nasty is widely recognized as the global icons of dark performance art and burlesque inspired dance. They blend elements of metal\, goth\, EDM\, industrial and hip-hop with provocative choreography\, big theatrical production\, bold and sensual visuals\, and a fierce\, empowered attitude. Little Miss Nasty also released their debut album Weapon Of Choice last year and continues to release critically acclaimed original songs. \nLucia Cifarelli is undeniably one of the towering vocal and songwriting powerhouses of a generation and beyond\, known primarily as the front woman for the Ultra Heavy Beat sensation of KMFDM\, as well as numerous collaborations with the likes of Acumen Nation/DJ? Acucrack\, Combichrist\, Victor Love\, Valentina\, Julian Beeston’s Featured\, and more\, native New Yorker Cifarelli got her start in the 90’s alternative rock band DRILL on A&M Records\, opening for Marilyn Manson\, Stabbing Westward\, Gang of Four\, God Lives Underwater\, Ace Freely\, The Genitorturers and Sister Machine Gun.
URL:https://wruw.org/event/lords-of-acid-w-little-miss-nasty-lucia-cifarelli-from-kmfdm-and-tomorrows-ghosts/
LOCATION:Globe Iron\, 2325 Elm St.\, Cleveland\, OH\, 44113\, United States
CATEGORIES:Concert
ATTACH;FMTTYPE=image/jpeg:https://wruw.org/wp-content/uploads/2025/05/Lords-of-Acid-Banner.jpg
END:VEVENT
END:VCALENDAR