BEGIN:VCALENDAR
VERSION:2.0
PRODID:-// - ECPv6.15.17//NONSGML v1.0//EN
CALSCALE:GREGORIAN
METHOD:PUBLISH
X-ORIGINAL-URL:https://wruw.org
X-WR-CALDESC:Events for 
REFRESH-INTERVAL;VALUE=DURATION:PT1H
X-Robots-Tag:noindex
X-PUBLISHED-TTL:PT1H
BEGIN:VTIMEZONE
TZID:America/New_York
BEGIN:DAYLIGHT
TZOFFSETFROM:-0500
TZOFFSETTO:-0400
TZNAME:EDT
DTSTART:20240310T070000
END:DAYLIGHT
BEGIN:STANDARD
TZOFFSETFROM:-0400
TZOFFSETTO:-0500
TZNAME:EST
DTSTART:20241103T060000
END:STANDARD
BEGIN:DAYLIGHT
TZOFFSETFROM:-0500
TZOFFSETTO:-0400
TZNAME:EDT
DTSTART:20250309T070000
END:DAYLIGHT
BEGIN:STANDARD
TZOFFSETFROM:-0400
TZOFFSETTO:-0500
TZNAME:EST
DTSTART:20251102T060000
END:STANDARD
BEGIN:DAYLIGHT
TZOFFSETFROM:-0500
TZOFFSETTO:-0400
TZNAME:EDT
DTSTART:20260308T070000
END:DAYLIGHT
BEGIN:STANDARD
TZOFFSETFROM:-0400
TZOFFSETTO:-0500
TZNAME:EST
DTSTART:20261101T060000
END:STANDARD
END:VTIMEZONE
BEGIN:VEVENT
DTSTART;TZID=America/New_York:20250602T180000
DTEND;TZID=America/New_York:20250602T180000
DTSTAMP:20260420T001449
CREATED:20250507T012502Z
LAST-MODIFIED:20250507T012502Z
UID:759448-1748887200-1748887200@wruw.org
SUMMARY:Panchiko w/ Model/Actriz
DESCRIPTION:MON June 2\, 2025 \nAges: All Ages\nDoors Open: 6 PM\n\n\nOn July 21st\, 2016\, a user on 4chan’s /mu/ board posted a photo of a demo CD they’d discovered in an Oxfam charity store in Nottingham\, UK: titled D>E>A>T>H>M>E>T>A>L\, purportedly released in 1998. The listener uploaded the ripped audio to file-sharing sites\, and later YouTube\, where it began circulating around web forums. A cult of fans banded together to solve the origin story of the mysterious disc\, until eventually a long defunct local band from Nottingham who called themselves Panchiko discovered their album (limited to 30 copies) had spread virally across the internet 18 years later. \nBy popular demand Panchiko reunited touring the music of D>E>A>T>H>M>E>T>A>L to sold out audiences across the US and UK in 2022 and in May 2023 self-released a new LP titled Failed at Math(s) followed by expanded tours in the US\, UK\, and EU. Panchiko are currently in the studio crafting a new album with news to come.
URL:https://wruw.org/event/panchiko-w-model-actriz/
LOCATION:Globe Iron\, 2325 Elm St.\, Cleveland\, OH\, 44113\, United States
CATEGORIES:Concert
ATTACH;FMTTYPE=image/jpeg:https://wruw.org/wp-content/uploads/2025/05/0602-Cleveland-Panchiko-1920x1080-1.jpg
END:VEVENT
END:VCALENDAR