BEGIN:VCALENDAR
VERSION:2.0
PRODID:-// - ECPv6.15.17//NONSGML v1.0//EN
CALSCALE:GREGORIAN
METHOD:PUBLISH
X-ORIGINAL-URL:https://wruw.org
X-WR-CALDESC:Events for 
REFRESH-INTERVAL;VALUE=DURATION:PT1H
X-Robots-Tag:noindex
X-PUBLISHED-TTL:PT1H
BEGIN:VTIMEZONE
TZID:America/New_York
BEGIN:DAYLIGHT
TZOFFSETFROM:-0500
TZOFFSETTO:-0400
TZNAME:EDT
DTSTART:20240310T070000
END:DAYLIGHT
BEGIN:STANDARD
TZOFFSETFROM:-0400
TZOFFSETTO:-0500
TZNAME:EST
DTSTART:20241103T060000
END:STANDARD
BEGIN:DAYLIGHT
TZOFFSETFROM:-0500
TZOFFSETTO:-0400
TZNAME:EDT
DTSTART:20250309T070000
END:DAYLIGHT
BEGIN:STANDARD
TZOFFSETFROM:-0400
TZOFFSETTO:-0500
TZNAME:EST
DTSTART:20251102T060000
END:STANDARD
BEGIN:DAYLIGHT
TZOFFSETFROM:-0500
TZOFFSETTO:-0400
TZNAME:EDT
DTSTART:20260308T070000
END:DAYLIGHT
BEGIN:STANDARD
TZOFFSETFROM:-0400
TZOFFSETTO:-0500
TZNAME:EST
DTSTART:20261101T060000
END:STANDARD
END:VTIMEZONE
BEGIN:VEVENT
DTSTART;TZID=America/New_York:20250528T190000
DTEND;TZID=America/New_York:20250528T190000
DTSTAMP:20260420T105825
CREATED:20250328T072241Z
LAST-MODIFIED:20250328T072241Z
UID:759225-1748458800-1748458800@wruw.org
SUMMARY:The Wedding Present - Bizzaro 35th Anniversary Tour w/ The Tubs
DESCRIPTION:WED May 28\, 2025 \nALL AGES \nDoors 7:00 p.m. \n  \nIn 2025\, The Wedding Present will be playing a series of concert dates in North America to commemorate the 35th anniversary of the release of their classic major-label debut long-player\, Bizarro [“Simply unbeatable” – Melody Maker]. \nDavid Gedge says “Bizarro was our second album\, and you can hear on it how much we had learned from the experience of recording our debut\, George Best. You only have to listen to something like ‘Bewitched’ to notice that there’s much more in the way of texture and depth on Bizarro. We’d just improved as songwriters and arrangers\, basically. It’s no less frenetic a record\, though!”
URL:https://wruw.org/event/the-wedding-present-bizzaro-35th-anniversary-tour-w-the-tubs/
LOCATION:Grog Shop\, 2785 Euclid Heights Boulevard\, Cleveland Heights\, OH\, 44106\, United States
CATEGORIES:Concert
ATTACH;FMTTYPE=image/jpeg:https://wruw.org/wp-content/uploads/2025/03/The-Wedding-Present.jpg
END:VEVENT
END:VCALENDAR