BEGIN:VCALENDAR
VERSION:2.0
PRODID:-// - ECPv6.15.17//NONSGML v1.0//EN
CALSCALE:GREGORIAN
METHOD:PUBLISH
X-ORIGINAL-URL:https://wruw.org
X-WR-CALDESC:Events for 
REFRESH-INTERVAL;VALUE=DURATION:PT1H
X-Robots-Tag:noindex
X-PUBLISHED-TTL:PT1H
BEGIN:VTIMEZONE
TZID:America/New_York
BEGIN:DAYLIGHT
TZOFFSETFROM:-0500
TZOFFSETTO:-0400
TZNAME:EDT
DTSTART:20240310T070000
END:DAYLIGHT
BEGIN:STANDARD
TZOFFSETFROM:-0400
TZOFFSETTO:-0500
TZNAME:EST
DTSTART:20241103T060000
END:STANDARD
BEGIN:DAYLIGHT
TZOFFSETFROM:-0500
TZOFFSETTO:-0400
TZNAME:EDT
DTSTART:20250309T070000
END:DAYLIGHT
BEGIN:STANDARD
TZOFFSETFROM:-0400
TZOFFSETTO:-0500
TZNAME:EST
DTSTART:20251102T060000
END:STANDARD
BEGIN:DAYLIGHT
TZOFFSETFROM:-0500
TZOFFSETTO:-0400
TZNAME:EDT
DTSTART:20260308T070000
END:DAYLIGHT
BEGIN:STANDARD
TZOFFSETFROM:-0400
TZOFFSETTO:-0500
TZNAME:EST
DTSTART:20261101T060000
END:STANDARD
END:VTIMEZONE
BEGIN:VEVENT
DTSTART;TZID=America/New_York:20250525T190000
DTEND;TZID=America/New_York:20250525T190000
DTSTAMP:20260420T105822
CREATED:20250328T021510Z
LAST-MODIFIED:20250328T023603Z
UID:759176-1748199600-1748199600@wruw.org
SUMMARY:Tennis w/ Billie Marten
DESCRIPTION:Sun May 25\, 2025  \nAges: All Ages\nDoors Open: 7:00 PM\n\nTennis is Alaina Moore and Patrick Riley. The two met in the philosophy department at the University of Colorado in 2008 after dropping out of their respective music programs. In the years after graduating\, they got involved in Denver’s DIY music scene. Through house shows\, they were connected with Underwater Peoples\, and Firetalk. Tennis’ first singles “South Carolina\,” “Baltimore\,” and “Marathon” were released in 2010. The band went blog-viral nearly overnight\, landing them a record deal with Fat Possum. Cape Dory\, (2011 on Fat Possum)\, documents Moore and Riley’s time spent living aboard a small sailboat on the Atlantic coast. The album debuted at #1 on Billboard’s Heatseeker chart\, transitioning Tennis from house-shows to stages such as Lollapalooza. Tennis recorded their sophomore effort Young & Old (2012) with Patrick Carney of the Black Keys. They made their television debut on The Tonight Show\, The Late Show\, and Conan. In 2014 they signed with Communion. The resulting release\, Ritual in Repeat was the culmination of separate recording sessions with Richard Swift\, Jim Eno and Patrick Carney. Moore and Riley were greatly influenced by Richard Swift’s approach to recording and engineering\, prompting Riley’s decision to take over as engineer on their future releases. With shifting labels and new interests\, Tennis chose an alternate path for their band and career. In 2016\, Moore and Riley formed the label Mutually Detrimental and began self-releasing. Their newfound freedom allowed them to return to their sailboat to write their next full-length\, this time in the Sea of Cortez. Yours Conditionally\, released in 2017\, became their most commercially successful album–charting at #4 on Billboard’s Independent list and in the top 100 highest selling vinyl releases that year. They played Coachella and opened for artists like The National\, Father John Misty and The Shins–proving their DIY roots as a cornerstone to their sound and narrative. Their follow up Swimmer (2020)\, was recorded in their home studio with Moore and Riley producing and engineering. The pair brought their long-time touring member Steve Voss in for the second time to drum on record. The singles\, Need Your Love and Runner\, were Tennis’ most successful releases to date. With nearly every show on tour sold-out (including two consecutive nights at Brooklyn Steel) the album’s campaign was cut short by the Covid-19 pandemic. Pollen\, Tennis’ sixth studio album is due on February 10\, 2023 (Mutually Detrimental).
URL:https://wruw.org/event/tennis-w-billie-marten/
LOCATION:Globe Iron\, 2325 Elm St.\, Cleveland\, OH\, 44113\, United States
CATEGORIES:Concert
ATTACH;FMTTYPE=image/jpeg:https://wruw.org/wp-content/uploads/2025/03/TENNIS-ADMAT-VENUE-SPECIFIC-1920x1005-1.jpg
END:VEVENT
END:VCALENDAR