BEGIN:VCALENDAR
VERSION:2.0
PRODID:-// - ECPv6.15.17//NONSGML v1.0//EN
CALSCALE:GREGORIAN
METHOD:PUBLISH
X-ORIGINAL-URL:https://wruw.org
X-WR-CALDESC:Events for 
REFRESH-INTERVAL;VALUE=DURATION:PT1H
X-Robots-Tag:noindex
X-PUBLISHED-TTL:PT1H
BEGIN:VTIMEZONE
TZID:America/New_York
BEGIN:DAYLIGHT
TZOFFSETFROM:-0500
TZOFFSETTO:-0400
TZNAME:EDT
DTSTART:20240310T070000
END:DAYLIGHT
BEGIN:STANDARD
TZOFFSETFROM:-0400
TZOFFSETTO:-0500
TZNAME:EST
DTSTART:20241103T060000
END:STANDARD
BEGIN:DAYLIGHT
TZOFFSETFROM:-0500
TZOFFSETTO:-0400
TZNAME:EDT
DTSTART:20250309T070000
END:DAYLIGHT
BEGIN:STANDARD
TZOFFSETFROM:-0400
TZOFFSETTO:-0500
TZNAME:EST
DTSTART:20251102T060000
END:STANDARD
BEGIN:DAYLIGHT
TZOFFSETFROM:-0500
TZOFFSETTO:-0400
TZNAME:EDT
DTSTART:20260308T070000
END:DAYLIGHT
BEGIN:STANDARD
TZOFFSETFROM:-0400
TZOFFSETTO:-0500
TZNAME:EST
DTSTART:20261101T060000
END:STANDARD
END:VTIMEZONE
BEGIN:VEVENT
DTSTART;TZID=America/New_York:20250522T190000
DTEND;TZID=America/New_York:20250522T190000
DTSTAMP:20260420T105836
CREATED:20250328T023443Z
LAST-MODIFIED:20250328T023443Z
UID:759181-1747940400-1747940400@wruw.org
SUMMARY:Lettuce
DESCRIPTION:Thu May 22\, 2025 \nAges: All Ages \nDoors Open: 7:00 PM\n\nLETTUCE is (a) the prime ingredient in a salad\, (b) a slang for cash\, (c) a green herb that can be smoked\, (d) a genre-busting six-member musical collective formed in 1992 by four alumni of the prestigious Berklee College Of Music\, or (e) all of the above. If you answered “e\,” then you’re in on the sheer magic of a band that both feeds the rich history of funk and combines it with strains of hip-hop\, rock\, psychedelia\, jazz\, soul\, jam\, go-go\, and the avant-garde. \nThe GRAMMY® Award-nominated six-piece is comprised of Adam Deitch [drums\, percussion\, arrangement]\, Adam “Shmeeans” Smirnoff [guitar]\, Erick “Jesus” Coomes [bass]\, Ryan Zoidis [alto\, baritone\, tenor sax\, Korg X-911]\, Eric “Benny” Bloom [trumpet\, horns]\, and Nigel Hall [vocals\, Hammond B-3\, Rhodes\, clavinet\, keyboards].  To date\, their discography includes Outta Here [2002]\, Rage! [2008]\, Fly [2012]\, Crush [2015]\, the EP Mt. Crushmore [2016]\, the live album Witches Stew [2017]\, Elevate [2019]\, Resonate [2020]\, Unify [2022]\, and now VIBE – a single 48 minute continuous session of pure\, free-flowing improvisation\, available digitally for the first time.
URL:https://wruw.org/event/lettuce/
LOCATION:Globe Iron\, 2325 Elm St.\, Cleveland\, OH\, 44113\, United States
CATEGORIES:Concert
ATTACH;FMTTYPE=image/jpeg:https://wruw.org/wp-content/uploads/2025/03/0522-Cleveland-Lettuce-1920x1080-1.jpg
END:VEVENT
END:VCALENDAR