BEGIN:VCALENDAR
VERSION:2.0
PRODID:-// - ECPv6.15.17//NONSGML v1.0//EN
CALSCALE:GREGORIAN
METHOD:PUBLISH
X-ORIGINAL-URL:https://wruw.org
X-WR-CALDESC:Events for 
REFRESH-INTERVAL;VALUE=DURATION:PT1H
X-Robots-Tag:noindex
X-PUBLISHED-TTL:PT1H
BEGIN:VTIMEZONE
TZID:America/New_York
BEGIN:DAYLIGHT
TZOFFSETFROM:-0500
TZOFFSETTO:-0400
TZNAME:EDT
DTSTART:20240310T070000
END:DAYLIGHT
BEGIN:STANDARD
TZOFFSETFROM:-0400
TZOFFSETTO:-0500
TZNAME:EST
DTSTART:20241103T060000
END:STANDARD
BEGIN:DAYLIGHT
TZOFFSETFROM:-0500
TZOFFSETTO:-0400
TZNAME:EDT
DTSTART:20250309T070000
END:DAYLIGHT
BEGIN:STANDARD
TZOFFSETFROM:-0400
TZOFFSETTO:-0500
TZNAME:EST
DTSTART:20251102T060000
END:STANDARD
BEGIN:DAYLIGHT
TZOFFSETFROM:-0500
TZOFFSETTO:-0400
TZNAME:EDT
DTSTART:20260308T070000
END:DAYLIGHT
BEGIN:STANDARD
TZOFFSETFROM:-0400
TZOFFSETTO:-0500
TZNAME:EST
DTSTART:20261101T060000
END:STANDARD
END:VTIMEZONE
BEGIN:VEVENT
DTSTART;TZID=America/New_York:20250518T190000
DTEND;TZID=America/New_York:20250518T190000
DTSTAMP:20260420T105452
CREATED:20250328T071833Z
LAST-MODIFIED:20250328T071833Z
UID:759222-1747594800-1747594800@wruw.org
SUMMARY:A Place To Bury Strangers w/ The Serfs and The Mall
DESCRIPTION:SUN May 18. 2025 \nALL AGES \nDoors 7:00 p.m. \n  \nSynthesizer is the title of A Place to Bury Strangers‘ seventh album. It is also a physical entity\, a synthesizer made specifically for A Place to Bury Strangers’ seventh album. A synthesizer that you too\, can own (in part)\, if you buy the record on vinyl. “It’s pretty messed up\, chaotic\,” says frontman Oliver Ackermann\, “But it feels really human.” In an era of making music where so little is DIY and so much is left up to AI\, to never setting foot in a practice room or a home studio\, making something that feels deliberately chaotic\, messy\, and human\, is entirely the point. Synthesizer is a record that celebrates sounds that are spontaneous and natural\, the kind of music that can only come from collaboration and community. \nThe writing sessions for Synthesizer started in 2022 in the band’s Queens studio\, shortly after the release of See Through You. A Place to Bury Strangers re-formed with a new lineup\, Ackermann still at the helm\, now featuring friends John and Sandra Fedowitz. This new iteration of the band was inspiring for Ackermann\, “It felt like a fresh new thing\,” he says\, “I wanted to write songs everyone was excited about playing.” Indeed\, the sense of connectivity is everywhere on the record. Synthesizer very much feels like a record of reinvention\, of taking a carefully honed aesthetic and sound and cracking it wide open\, gutting it\, reimagining it. And of course\, to ever so slightly reinvent one’s sound\, one must also build a new instrument\, thus again the synth in question. The resulting record is one that is romantic\, colorful\, loud as hell.
URL:https://wruw.org/event/a-place-to-bury-strangers-w-the-serfs-and-the-mall/
LOCATION:Grog Shop\, 2785 Euclid Heights Boulevard\, Cleveland Heights\, OH\, 44106\, United States
CATEGORIES:Concert
ATTACH;FMTTYPE=image/jpeg:https://wruw.org/wp-content/uploads/2025/03/APTBS-Banner.jpg
END:VEVENT
END:VCALENDAR