BEGIN:VCALENDAR
VERSION:2.0
PRODID:-// - ECPv6.15.17//NONSGML v1.0//EN
CALSCALE:GREGORIAN
METHOD:PUBLISH
X-ORIGINAL-URL:https://wruw.org
X-WR-CALDESC:Events for 
REFRESH-INTERVAL;VALUE=DURATION:PT1H
X-Robots-Tag:noindex
X-PUBLISHED-TTL:PT1H
BEGIN:VTIMEZONE
TZID:America/New_York
BEGIN:DAYLIGHT
TZOFFSETFROM:-0500
TZOFFSETTO:-0400
TZNAME:EDT
DTSTART:20240310T070000
END:DAYLIGHT
BEGIN:STANDARD
TZOFFSETFROM:-0400
TZOFFSETTO:-0500
TZNAME:EST
DTSTART:20241103T060000
END:STANDARD
BEGIN:DAYLIGHT
TZOFFSETFROM:-0500
TZOFFSETTO:-0400
TZNAME:EDT
DTSTART:20250309T070000
END:DAYLIGHT
BEGIN:STANDARD
TZOFFSETFROM:-0400
TZOFFSETTO:-0500
TZNAME:EST
DTSTART:20251102T060000
END:STANDARD
BEGIN:DAYLIGHT
TZOFFSETFROM:-0500
TZOFFSETTO:-0400
TZNAME:EDT
DTSTART:20260308T070000
END:DAYLIGHT
BEGIN:STANDARD
TZOFFSETFROM:-0400
TZOFFSETTO:-0500
TZNAME:EST
DTSTART:20261101T060000
END:STANDARD
END:VTIMEZONE
BEGIN:VEVENT
DTSTART;TZID=America/New_York:20250515T190000
DTEND;TZID=America/New_York:20250515T190000
DTSTAMP:20260420T105832
CREATED:20250328T065222Z
LAST-MODIFIED:20250328T065222Z
UID:759204-1747335600-1747335600@wruw.org
SUMMARY:Chris Farren w/ Oceanator and Maura Weaver
DESCRIPTION:THU May 15\, 2025 \nALL AGES \nDoors 7:00 p.m. \nAsk Chris Farren how he feels when he finishes an album and he won’t hesitate to respond with: “Miserable. Miserable. Miserable.” \nAt least\, that’s how it’s been over the years he’s been writing and recording solo. When the time came to make a record\, Farren would be overtaken by an unparalleled anxiety\, forcing him into the home studio he describes as “barely bigger than a closet\,” where he agonized over the minute details of his work in progress. “Looking back on those records… I have no good memories of making them\,” he admits. “It’s always been a lonely\, doubt-ridden process.” \nIt’s surprising to hear this\, knowing Farren’s reputation as a prolific songwriter who made his name recording with Jeff Rosenstock in Antarctigo Vespucci and before that\, the Floridian punk band Fake Problems. In 2014\, Farren started releasing music under his own name all while continuing his project alongside Rosenstock\, and his first album\, Like a Gift From God or Whatever endeared him to fans of the now-defunct Fake Problems and new listeners who had yet to experience the delight of a new Chris Farren song. Like a Gift From God or Whatever was followed by Can’t Die and Farren’s Polyvinyl debut\, Born Hot. Last year\, Farren wrote what he describes as a soundtrack to a spy film he invented that will never be committed to film. Inspired by Marvin Gaye’s soundtrack to Trouble Man\, Death Don’t Wait (Original Motion Picture Soundtrack) was a creative exercise\, one Farren completed in mere months that stands apart from the extensive\, at times arduous\, process of making a Chris Farren album. \nCiting My Bloody Valentine\, TV on the Radio\, and Camera Obscura as clear influences\, Farren says he can’t listen to much music until it’s time to make a new record\, but when it’s time\, he submerges himself in music that moves him. “I wrote between fifty and eighty songs for this album\,” he says. The final cut is as genuine\, empathetic\, and of course\, funny\, as Farren is\, and though he claims nihilistic tendencies\, it’s the dogged optimism that endures. On “All We Ever\,” Farren compiles a list of things he wants (to stop paying rent\, to love the government\, to \nget drunk with friends) that accumulate into a three-minute reminder that no life is ever pristine\, that there will always be wants unfulfilled\, and that that’s okay.
URL:https://wruw.org/event/chris-farren-w-oceanator-and-maura-weaver/
LOCATION:Beachland Ballroom\, 15711 Waterloo Rd.\, Cleveland\, OH\, 44110\, United States
CATEGORIES:Concert
ATTACH;FMTTYPE=image/jpeg:https://wruw.org/wp-content/uploads/2025/03/Chris-Farren-Banner.jpg
END:VEVENT
END:VCALENDAR