BEGIN:VCALENDAR
VERSION:2.0
PRODID:-// - ECPv6.15.17//NONSGML v1.0//EN
CALSCALE:GREGORIAN
METHOD:PUBLISH
X-ORIGINAL-URL:https://wruw.org
X-WR-CALDESC:Events for 
REFRESH-INTERVAL;VALUE=DURATION:PT1H
X-Robots-Tag:noindex
X-PUBLISHED-TTL:PT1H
BEGIN:VTIMEZONE
TZID:America/New_York
BEGIN:DAYLIGHT
TZOFFSETFROM:-0500
TZOFFSETTO:-0400
TZNAME:EDT
DTSTART:20240310T070000
END:DAYLIGHT
BEGIN:STANDARD
TZOFFSETFROM:-0400
TZOFFSETTO:-0500
TZNAME:EST
DTSTART:20241103T060000
END:STANDARD
BEGIN:DAYLIGHT
TZOFFSETFROM:-0500
TZOFFSETTO:-0400
TZNAME:EDT
DTSTART:20250309T070000
END:DAYLIGHT
BEGIN:STANDARD
TZOFFSETFROM:-0400
TZOFFSETTO:-0500
TZNAME:EST
DTSTART:20251102T060000
END:STANDARD
BEGIN:DAYLIGHT
TZOFFSETFROM:-0500
TZOFFSETTO:-0400
TZNAME:EDT
DTSTART:20260308T070000
END:DAYLIGHT
BEGIN:STANDARD
TZOFFSETFROM:-0400
TZOFFSETTO:-0500
TZNAME:EST
DTSTART:20261101T060000
END:STANDARD
END:VTIMEZONE
BEGIN:VEVENT
DTSTART;TZID=America/New_York:20250505T190000
DTEND;TZID=America/New_York:20250505T190000
DTSTAMP:20260420T105454
CREATED:20250409T022344Z
LAST-MODIFIED:20250409T022344Z
UID:759309-1746471600-1746471600@wruw.org
SUMMARY:The Damned w/ The BelRays
DESCRIPTION:MON May 5\, 2025 \nALL AGES \nDoors 7:00 PM \nFollowing their formation in 1976\, The Damned became the first UK punk band to officially release a single\, ‘New Rose’\, and an album Damned Damned Damned. With 12 studio albums and several UK chart singles\, the band are pioneers who emerged from the London punk scene\, earning an ever-expanding fan base fuelled by legendary live shows. Their dark lyrics and Dave Vanian’s rich baritone vocals also catapulted The Damned to the forefront of the Goth-Rock Genre. The Damned of today defy any categorisation and the ease of which songs from all phases of their career fit together in this ground-breaking spectacle is absolute proof. \nTHE DAMNED line-up are: \nDave Vanian – Vocals \nCaptain Sensible – Guitar \nRat Scabies – Drums \nPaul Gray – Bass \nMonty Oxymoron – Keyboards
URL:https://wruw.org/event/the-damned-w-the-belrays/
LOCATION:Globe Iron\, 2325 Elm St.\, Cleveland\, OH\, 44113\, United States
CATEGORIES:Concert
ATTACH;FMTTYPE=image/jpeg:https://wruw.org/wp-content/uploads/2025/04/0505-Cleveland-TheDamned-1920x1080-1.jpg
END:VEVENT
END:VCALENDAR