BEGIN:VCALENDAR
VERSION:2.0
PRODID:-// - ECPv6.15.17//NONSGML v1.0//EN
CALSCALE:GREGORIAN
METHOD:PUBLISH
X-ORIGINAL-URL:https://wruw.org
X-WR-CALDESC:Events for 
REFRESH-INTERVAL;VALUE=DURATION:PT1H
X-Robots-Tag:noindex
X-PUBLISHED-TTL:PT1H
BEGIN:VTIMEZONE
TZID:America/New_York
BEGIN:DAYLIGHT
TZOFFSETFROM:-0500
TZOFFSETTO:-0400
TZNAME:EDT
DTSTART:20240310T070000
END:DAYLIGHT
BEGIN:STANDARD
TZOFFSETFROM:-0400
TZOFFSETTO:-0500
TZNAME:EST
DTSTART:20241103T060000
END:STANDARD
BEGIN:DAYLIGHT
TZOFFSETFROM:-0500
TZOFFSETTO:-0400
TZNAME:EDT
DTSTART:20250309T070000
END:DAYLIGHT
BEGIN:STANDARD
TZOFFSETFROM:-0400
TZOFFSETTO:-0500
TZNAME:EST
DTSTART:20251102T060000
END:STANDARD
BEGIN:DAYLIGHT
TZOFFSETFROM:-0500
TZOFFSETTO:-0400
TZNAME:EDT
DTSTART:20260308T070000
END:DAYLIGHT
BEGIN:STANDARD
TZOFFSETFROM:-0400
TZOFFSETTO:-0500
TZNAME:EST
DTSTART:20261101T060000
END:STANDARD
END:VTIMEZONE
BEGIN:VEVENT
DTSTART;TZID=America/New_York:20250502T190000
DTEND;TZID=America/New_York:20250502T190000
DTSTAMP:20260420T032159
CREATED:20250328T070351Z
LAST-MODIFIED:20250328T070351Z
UID:759213-1746212400-1746212400@wruw.org
SUMMARY:Nada Surf - Moon Mirror Tour w/ The CLE Elum
DESCRIPTION:FRI May 2\, 2025 \nALL AGES \nDoors 7:00 p.m. \n  \nMoon Mirror\, Nada Surf’s new record\, has everything fans love and expect from them. Bittersweet anthems that begin quietly but explode into soaring harmonies? Check. Songs that are play-on-repeat heart punches? Check. Songs that are poetic and thought-provoking while also being absolute belt-at-the-top-of-your-voice-with-the-windows-down masterpieces? Check. It’s all here. \nNada Surf is Matthew Caws\, Daniel Lorca\, Ira Elliot\, and Louie Lino. Moon Mirror\, their first for New West Records\, was produced by the band and Ian Laughton at Rockfield Studios in Wales. \nMoon Mirror is a thrilling and moving leap forward for Nada Surf. The songs on the album are true to the human experience — as meaningful and mysterious and sometimes absurd as it is. There’s love\, yes\, but also grief\, deep loneliness\, doubt\, wonder\, and hope. These are not the songs of a band in their 20s. There is hard-won wisdom here\, and hard-won belief in possibility — the kind that comes from falling down and getting back up. \n“Give Me The Sun” (“I’m looking for something/ I can’t say exactly what”)\, “Second Skin” (“I’m tired of living in this second skin/ I want to let everything in”)\, and “Moon Mirror” (“connect me to something”) grapple with being present and open\, paying attention\, and seeking connection in a world that feels alienating with its everything-all-at-once-ness. “In Front of Me Now” is a song against multi-tasking and sleepwalking through the one life we have. The song asks\, “Why wasn’t I present? I could have been living\,” and shows us a transformation in the chorus: “Today\, I do what’s in front of me now.” I don’t know about you\, but I need this reminder as much as ever. \nNada Surf has been working together for decades\, and they’re consistently excellent\, but they always surprise me. That’s what great art does. For nearly 30 years\, Nada Surf has been a part of the soundtrack of my life. Our lives. I fell hard for the band over Let Go in 2002\, and following that\, The Weight Is a Gift\, in 2005. Those songs are lodged in my body\, someplace they’ll never be extracted from. So are songs from The Proximity Effect\, Lucky\, The Stars Are Indifferent to Astronomy\, and Never Not Together\, which was my favorite record of 2020. Moon Mirror will take its place among the others\, in heavy rotation.
URL:https://wruw.org/event/nada-surf-moon-mirror-tour-w-the-cle-elum/
LOCATION:Grog Shop\, 2785 Euclid Heights Boulevard\, Cleveland Heights\, OH\, 44106\, United States
CATEGORIES:Concert
ATTACH;FMTTYPE=image/jpeg:https://wruw.org/wp-content/uploads/2025/03/Nada-Surf-Banner.jpg
END:VEVENT
END:VCALENDAR