BEGIN:VCALENDAR
VERSION:2.0
PRODID:-// - ECPv6.15.17//NONSGML v1.0//EN
CALSCALE:GREGORIAN
METHOD:PUBLISH
X-ORIGINAL-URL:https://wruw.org
X-WR-CALDESC:Events for 
REFRESH-INTERVAL;VALUE=DURATION:PT1H
X-Robots-Tag:noindex
X-PUBLISHED-TTL:PT1H
BEGIN:VTIMEZONE
TZID:America/New_York
BEGIN:DAYLIGHT
TZOFFSETFROM:-0500
TZOFFSETTO:-0400
TZNAME:EDT
DTSTART:20240310T070000
END:DAYLIGHT
BEGIN:STANDARD
TZOFFSETFROM:-0400
TZOFFSETTO:-0500
TZNAME:EST
DTSTART:20241103T060000
END:STANDARD
BEGIN:DAYLIGHT
TZOFFSETFROM:-0500
TZOFFSETTO:-0400
TZNAME:EDT
DTSTART:20250309T070000
END:DAYLIGHT
BEGIN:STANDARD
TZOFFSETFROM:-0400
TZOFFSETTO:-0500
TZNAME:EST
DTSTART:20251102T060000
END:STANDARD
BEGIN:DAYLIGHT
TZOFFSETFROM:-0500
TZOFFSETTO:-0400
TZNAME:EDT
DTSTART:20260308T070000
END:DAYLIGHT
BEGIN:STANDARD
TZOFFSETFROM:-0400
TZOFFSETTO:-0500
TZNAME:EST
DTSTART:20261101T060000
END:STANDARD
END:VTIMEZONE
BEGIN:VEVENT
DTSTART;TZID=America/New_York:20250411T180000
DTEND;TZID=America/New_York:20250411T180000
DTSTAMP:20260420T032159
CREATED:20250328T034125Z
LAST-MODIFIED:20250328T034125Z
UID:759193-1744394400-1744394400@wruw.org
SUMMARY:Crack The Sky w/ Cuda Brothers
DESCRIPTION:FRI April 11\, 2025 \nALL AGES \nDoors: 6:00 PM \nCrack the Sky is an American progressive rock band formed in the early 1970s. In 1975\, Rolling Stone declared their first album “debut album of the year.” Today\, some 45+ years later\, the band is back and breaking new ground. Compared to Steely Dan by Rolling Stone Record Guide\, their first three albums charted on the Billboard 200. In 2015\, their debut album was ranked number 47 in the Rolling Stone list of “50 Greatest Prog Rock Albums of All Time.”
URL:https://wruw.org/event/crack-the-sky-w-cuda-brothers/
LOCATION:Music Box Supper Club\, 1148 Main Ave.\, Cleveland\, Ohio\, 44113\, United States
CATEGORIES:Concert
ATTACH;FMTTYPE=image/jpeg:https://wruw.org/wp-content/uploads/2025/03/Crack-The-Sky-1.jpg
END:VEVENT
END:VCALENDAR