BEGIN:VCALENDAR
VERSION:2.0
PRODID:-// - ECPv6.15.17//NONSGML v1.0//EN
CALSCALE:GREGORIAN
METHOD:PUBLISH
X-ORIGINAL-URL:https://wruw.org
X-WR-CALDESC:Events for 
REFRESH-INTERVAL;VALUE=DURATION:PT1H
X-Robots-Tag:noindex
X-PUBLISHED-TTL:PT1H
BEGIN:VTIMEZONE
TZID:America/New_York
BEGIN:DAYLIGHT
TZOFFSETFROM:-0500
TZOFFSETTO:-0400
TZNAME:EDT
DTSTART:20240310T070000
END:DAYLIGHT
BEGIN:STANDARD
TZOFFSETFROM:-0400
TZOFFSETTO:-0500
TZNAME:EST
DTSTART:20241103T060000
END:STANDARD
BEGIN:DAYLIGHT
TZOFFSETFROM:-0500
TZOFFSETTO:-0400
TZNAME:EDT
DTSTART:20250309T070000
END:DAYLIGHT
BEGIN:STANDARD
TZOFFSETFROM:-0400
TZOFFSETTO:-0500
TZNAME:EST
DTSTART:20251102T060000
END:STANDARD
BEGIN:DAYLIGHT
TZOFFSETFROM:-0500
TZOFFSETTO:-0400
TZNAME:EDT
DTSTART:20260308T070000
END:DAYLIGHT
BEGIN:STANDARD
TZOFFSETFROM:-0400
TZOFFSETTO:-0500
TZNAME:EST
DTSTART:20261101T060000
END:STANDARD
END:VTIMEZONE
BEGIN:VEVENT
DTSTART;TZID=America/New_York:20250411T180000
DTEND;TZID=America/New_York:20250411T180000
DTSTAMP:20260420T014710
CREATED:20250328T034125Z
LAST-MODIFIED:20250328T034125Z
UID:759193-1744394400-1744394400@wruw.org
SUMMARY:Crack The Sky w/ Cuda Brothers
DESCRIPTION:FRI April 11\, 2025 \nALL AGES \nDoors: 6:00 PM \nCrack the Sky is an American progressive rock band formed in the early 1970s. In 1975\, Rolling Stone declared their first album “debut album of the year.” Today\, some 45+ years later\, the band is back and breaking new ground. Compared to Steely Dan by Rolling Stone Record Guide\, their first three albums charted on the Billboard 200. In 2015\, their debut album was ranked number 47 in the Rolling Stone list of “50 Greatest Prog Rock Albums of All Time.”
URL:https://wruw.org/event/crack-the-sky-w-cuda-brothers/
LOCATION:Music Box Supper Club\, 1148 Main Ave.\, Cleveland\, Ohio\, 44113\, United States
CATEGORIES:Concert
ATTACH;FMTTYPE=image/jpeg:https://wruw.org/wp-content/uploads/2025/03/Crack-The-Sky-1.jpg
END:VEVENT
BEGIN:VEVENT
DTSTART;TZID=America/New_York:20250413T190000
DTEND;TZID=America/New_York:20250413T190000
DTSTAMP:20260420T014710
CREATED:20250328T064003Z
LAST-MODIFIED:20250328T064003Z
UID:759197-1744570800-1744570800@wruw.org
SUMMARY:La Lom w/ El Marchante
DESCRIPTION:SUN April 13\, 2025 \nALL AGES \nDoors 7:00 PM \nThe Los Angeles League of Musicians\, LA LOM\, are an instrumental trio formed in Los Angeles in 2021. They blend the sounds of Cumbia Sonidera\, 60’s soul ballads and classic romantic boleros that emanate from radios\, backyard parties and dance clubs of Los Angeles with the twang of Peruvian Chicha and Bakersfield Country.
URL:https://wruw.org/event/la-lom-w-el-marchante/
LOCATION:Beachland Ballroom\, 15711 Waterloo Rd.\, Cleveland\, OH\, 44110\, United States
CATEGORIES:Concert
ATTACH;FMTTYPE=image/jpeg:https://wruw.org/wp-content/uploads/2025/03/La-Lom.jpg
END:VEVENT
BEGIN:VEVENT
DTSTART;TZID=America/New_York:20250415T190000
DTEND;TZID=America/New_York:20250415T190000
DTSTAMP:20260420T014710
CREATED:20250328T065557Z
LAST-MODIFIED:20250328T065557Z
UID:759207-1744743600-1744743600@wruw.org
SUMMARY:Brainiac w/ DANA and PAL
DESCRIPTION:TUE April 15\, 2025 \nALL AGES \nDoors 7:00 p.m. \nBrainiac spent the 90s carving their own path directly through every typical musical trope\, but just as their trajectory had poised them to present their maniacal vision of hissing electro-punk to the mainstream\, the death of lead singer Timmy Taylor cut their story short. In the wake of this tragic event\, many artists (such as Trent Reznor\, The Mars Volta\, Muse\, The Flaming Lips\, the Breeders\, Mogwai\, etc) have espoused the band’s lasting influence and relevance as trailblazers whose music still sounds fresh and ahead of its time even today. \nOver 25 years later\, following a full length documentary about the band along with several recently unearthed archival releases\, the surviving band members emerge to celebrate the music and give it life once more both for a new generation and long time fans alike. Don’t miss out while you have the chance. Go freaks go!
URL:https://wruw.org/event/brainiac-w-dana-and-pal/
LOCATION:Grog Shop\, 2785 Euclid Heights Boulevard\, Cleveland Heights\, OH\, 44106\, United States
CATEGORIES:Concert
ATTACH;FMTTYPE=image/jpeg:https://wruw.org/wp-content/uploads/2025/03/Brainiac-Banner.jpg
END:VEVENT
BEGIN:VEVENT
DTSTART;TZID=America/New_York:20250424T190000
DTEND;TZID=America/New_York:20250424T190000
DTSTAMP:20260420T014710
CREATED:20250328T070006Z
LAST-MODIFIED:20250328T070006Z
UID:759210-1745521200-1745521200@wruw.org
SUMMARY:Ben Kweller - Cover The Mirrors Tour with RYMAN
DESCRIPTION:THU April 24\, 2025 \nALL AGES \nDoors 7:00 p.m. \nBK is back and he’s not the same. Who could be after the heartbreak he’s endured since the sudden passing of his 16-year old son. Instead of hiding away\, the beloved indie-rocker is walking through the fire of grief with intention and purpose. This unimaginable journey has led him to his seventh album\, Cover The Mirrors\, and the accompanying tour which begins on April 15th. \n“Music has been my savior throughout my life but never before has it saved me as much as it has this past year. My upcoming album\, Cover The Mirrors\, is a deep dive into my new reality.  It’s a collage of my good days and my bad days\, my highest highs and my lowest of lows. It’s the most personal\, emotionally raw project I’ve ever worked on.” \nKweller has been an open book throughout his illustrious career. His songs hold a nostalgic quality that takes you to a time and a place\, happy or sad. He’s also one of the rare few who can translate his recordings into captivating concerts that keep his fans coming back again and again. If you’ve never seen BK live before\, the Cover The Mirrors Tour is sure to be his most heartfelt and joyous live show yet. This is a chance for old and new fans to come together and witness one of the great songwriters at his creative peak.
URL:https://wruw.org/event/ben-kweller-cover-the-mirrors-tour-with-ryman/
LOCATION:Grog Shop\, 2785 Euclid Heights Boulevard\, Cleveland Heights\, OH\, 44106\, United States
CATEGORIES:Concert
ATTACH;FMTTYPE=image/jpeg:https://wruw.org/wp-content/uploads/2025/03/Ben-Kweller-Banner.jpg
END:VEVENT
BEGIN:VEVENT
DTSTART;TZID=America/New_York:20250427T190000
DTEND;TZID=America/New_York:20250427T190000
DTSTAMP:20260420T014710
CREATED:20250328T064655Z
LAST-MODIFIED:20250328T064655Z
UID:759200-1745780400-1745780400@wruw.org
SUMMARY:Orla Gartland w/ FIGHTMASTER
DESCRIPTION:SUN April 27\, 2025 \nALL AGES \nDoors 7:00 PM \nOrla Joan Gartland is an Irish singer\, songwriter and musician. Gartland released her debut studio album\, Woman on the Internet\, in 2021\, which reached number 3 on the Irish album chart\, number 1 on the UK Indie Chart\, and number 10 on the UK Albums Chart. \nFIGHTMASTER is the music project of nonbinary artist and activist\, E.R. Fightmaster. Their music bends genres\, blending alternative rock and indie folk with hints of pop\, country\, and even funk. With lyrics that playfully take on gender\, power\, grief and love\, FIGHTMASTER finds the perfect balance between edgy and energetic\, sensual and tender. Much like the artist themself\, the music is genderbending\, confident and queer as f*ck.
URL:https://wruw.org/event/orla-gartland-w-fightmaster/
LOCATION:Beachland Ballroom\, 15711 Waterloo Rd.\, Cleveland\, OH\, 44110\, United States
CATEGORIES:Concert
ATTACH;FMTTYPE=image/jpeg:https://wruw.org/wp-content/uploads/2025/03/Orla-Gartlnd-Banner.jpg
END:VEVENT
END:VCALENDAR