BEGIN:VCALENDAR
VERSION:2.0
PRODID:-// - ECPv6.15.17//NONSGML v1.0//EN
CALSCALE:GREGORIAN
METHOD:PUBLISH
X-ORIGINAL-URL:https://wruw.org
X-WR-CALDESC:Events for 
REFRESH-INTERVAL;VALUE=DURATION:PT1H
X-Robots-Tag:noindex
X-PUBLISHED-TTL:PT1H
BEGIN:VTIMEZONE
TZID:America/New_York
BEGIN:DAYLIGHT
TZOFFSETFROM:-0500
TZOFFSETTO:-0400
TZNAME:EDT
DTSTART:20180311T070000
END:DAYLIGHT
BEGIN:STANDARD
TZOFFSETFROM:-0400
TZOFFSETTO:-0500
TZNAME:EST
DTSTART:20181104T060000
END:STANDARD
BEGIN:DAYLIGHT
TZOFFSETFROM:-0500
TZOFFSETTO:-0400
TZNAME:EDT
DTSTART:20190310T070000
END:DAYLIGHT
BEGIN:STANDARD
TZOFFSETFROM:-0400
TZOFFSETTO:-0500
TZNAME:EST
DTSTART:20191103T060000
END:STANDARD
BEGIN:DAYLIGHT
TZOFFSETFROM:-0500
TZOFFSETTO:-0400
TZNAME:EDT
DTSTART:20200308T070000
END:DAYLIGHT
BEGIN:STANDARD
TZOFFSETFROM:-0400
TZOFFSETTO:-0500
TZNAME:EST
DTSTART:20201101T060000
END:STANDARD
END:VTIMEZONE
BEGIN:VEVENT
DTSTART;TZID=America/New_York:20191031T200000
DTEND;TZID=America/New_York:20191031T230000
DTSTAMP:20260421T162547
CREATED:20191021T235849Z
LAST-MODIFIED:20191021T235849Z
UID:752113-1572552000-1572562800@wruw.org
SUMMARY:Live from Cleveland Halloween Blues and Costume Night
DESCRIPTION:Attention Earth beings\, your bodily attendance at the 2019 Live from Cleveland Halloween Blues and Costume night is hereby formally requested. \nJoin WRUW FM as we broadcast a special live remote broadcast from Brother’s Lounge Halloween night\, Thursday October 31st. \nThe show starts at 8PM in the treacherous concert hall\, and features the Bad Boys of Blues\, we are broadcasting it live on 91.1 FM in Cleveland and worldwide at www.wruw.org. The FREE event is open to those 21 years of age or older and happens at The Brother’s Lounge 11609 Detroit Ave. Cleveland\, OH 44102. \nDress as a Blues Brother [creative costumes encouraged!] and receive a special gift!
URL:https://wruw.org/event/live-from-cleveland-halloween-blues-and-costume-night/
LOCATION:Brothers Lounge\, 11609 Detroit Ave\, Cleveland\, OH\, United States
END:VEVENT
END:VCALENDAR