BEGIN:VCALENDAR
VERSION:2.0
PRODID:-// - ECPv6.15.17//NONSGML v1.0//EN
CALSCALE:GREGORIAN
METHOD:PUBLISH
X-ORIGINAL-URL:https://wruw.org
X-WR-CALDESC:Events for 
REFRESH-INTERVAL;VALUE=DURATION:PT1H
X-Robots-Tag:noindex
X-PUBLISHED-TTL:PT1H
BEGIN:VTIMEZONE
TZID:UTC
BEGIN:STANDARD
TZOFFSETFROM:+0000
TZOFFSETTO:+0000
TZNAME:UTC
DTSTART:20170101T000000
END:STANDARD
END:VTIMEZONE
BEGIN:VEVENT
DTSTART;TZID=UTC:20180718T193000
DTEND;TZID=UTC:20180718T210000
DTSTAMP:20260422T191748
CREATED:20180713T235734Z
LAST-MODIFIED:20180713T235734Z
UID:748824-1531942200-1531947600@wruw.org
SUMMARY:City Stages - Sidi Touré
DESCRIPTION:We will be broadcasting the Cleveland Museum of Art’s City Stages concert of Sidi Touré from the Transformer Station in Ohio City. \n  \nA highly acclaimed practitioner of Songhai music whose band features the most exciting new faces on the Malian music scene\, Sidi Touré makes music driven by the energy and groove of the rhythms—a danceable\, dynamic\, trance music overflowing with joy and carried by the beauty of Sidi’s voice.
URL:https://wruw.org/event/city-stages-sidi-toure/
LOCATION:Transformer Station\, 2811 Church Ave\, Clevland\, OH\, 44113\, United States
CATEGORIES:Live Remote
END:VEVENT
END:VCALENDAR