BEGIN:VCALENDAR
VERSION:2.0
PRODID:-// - ECPv6.15.17//NONSGML v1.0//EN
CALSCALE:GREGORIAN
METHOD:PUBLISH
X-ORIGINAL-URL:https://wruw.org
X-WR-CALDESC:Events for 
REFRESH-INTERVAL;VALUE=DURATION:PT1H
X-Robots-Tag:noindex
X-PUBLISHED-TTL:PT1H
BEGIN:VTIMEZONE
TZID:UTC
BEGIN:STANDARD
TZOFFSETFROM:+0000
TZOFFSETTO:+0000
TZNAME:UTC
DTSTART:20170101T000000
END:STANDARD
END:VTIMEZONE
BEGIN:VEVENT
DTSTART;TZID=UTC:20180402T170000
DTEND;TZID=UTC:20180402T190000
DTSTAMP:20260423T004149
CREATED:20180328T032456Z
LAST-MODIFIED:20180328T032456Z
UID:748171-1522688400-1522695600@wruw.org
SUMMARY:Dyngus Day Celebration
DESCRIPTION:WRUW is broadcasting LIVE from Dyngus day from 5-7 on Monday\, April 2nd. If you’re at the festival\, come stop by our booth on West 58th and Detroit\, or listen over the airwaves or online to join in on the action.
URL:https://wruw.org/event/dyngus-day-celebration/
LOCATION:Detroit Ave\, 5800 Detroit Rd\, Cleveland\, OH\, 44102\, United States
CATEGORIES:Live Remote
END:VEVENT
END:VCALENDAR