BEGIN:VCALENDAR
VERSION:2.0
PRODID:-// - ECPv6.15.17//NONSGML v1.0//EN
CALSCALE:GREGORIAN
METHOD:PUBLISH
X-ORIGINAL-URL:https://wruw.org
X-WR-CALDESC:Events for 
REFRESH-INTERVAL;VALUE=DURATION:PT1H
X-Robots-Tag:noindex
X-PUBLISHED-TTL:PT1H
BEGIN:VTIMEZONE
TZID:UTC
BEGIN:STANDARD
TZOFFSETFROM:+0000
TZOFFSETTO:+0000
TZNAME:UTC
DTSTART:20150101T000000
END:STANDARD
END:VTIMEZONE
BEGIN:VEVENT
DTSTART;TZID=UTC:20160813T160000
DTEND;TZID=UTC:20160813T220000
DTSTAMP:20260424T095038
CREATED:20160813T033329Z
LAST-MODIFIED:20160813T033329Z
UID:687481-1471104000-1471125600@wruw.org
SUMMARY:LIVE FROM CLEVELAND at Little Italy's "The Feast"!
DESCRIPTION:This Saturday August 13th the Live From Cleveland Remote Crew is broadcasting LIVE from Little Italy’s 2016 Feast of the Assumption at the corner of E. 125th & Mayfield Road in front of the Italian American Brotherhood Club \n\nThe annual Little Italy Feast of the Assumption (referred to informally as The Feast) is a four-day Catholic street festival centered on Holy Rosary Church on Mayfield Road near its intersection with Murray Hill Road in Cleveland’s Little Italy neighborhood. And WRUW will be there BROADCASTING LIVE beginning at 4 pm with The Kilt Guy and The Fox-Crow Variety Show. Then it’s Tony Marotta and his signature show Radio Italia from 6-8 pm featuring the best Italian music from then & now. Rachel H and Guilty Pleasures will close out our broadcast from 8-10 pm with some very cool Italian-based “guilty pleasure” dance music\, featuring the Guilty Pleasure Dancers! \nGot a request? Stop by the IAB Club and ask! The Kilt Guy\, Rachel & Tony have thousands of tunes to pick from! \nWe’ll be there covering the festivities LIVE from The Feast on WRUW Saturday August 13th 4 – 10 pm edt \nTune in then with these: \n\nMOBILE get the WRUW tune-in app! YES!\nhttp://wruw-stream.wruw.org/Streams/wruw256k.m3u\nhttp://wruw-stream.wruw.org/Streams/wruw128k.m3u\nhttp://wruw-stream.wruw.org/Streams/wruw56k.m3u\n\nParking may be tight so try the RTA #9 down Mayfield or RTA’s Health Line from downtown or RTA’s Red Line and get off at the new Murray Hill/Little Italy station. Food\, music\, libations and good times will be available up and down Mayfield Road all night for the 2016 Feast of the Assumption. \nStop by our table and say “HI”! \nYet another LIVE FROM CLEVELAND Remote Broadcast exclusively on WRUW! \n* Yer Live from Cleveland Crew @work4u *
URL:https://wruw.org/event/live-from-cleveland-at-little-italys-the-feast/
LOCATION:OH
END:VEVENT
END:VCALENDAR