BEGIN:VCALENDAR
VERSION:2.0
PRODID:-// - ECPv6.15.17//NONSGML v1.0//EN
CALSCALE:GREGORIAN
METHOD:PUBLISH
X-ORIGINAL-URL:https://wruw.org
X-WR-CALDESC:Events for 
REFRESH-INTERVAL;VALUE=DURATION:PT1H
X-Robots-Tag:noindex
X-PUBLISHED-TTL:PT1H
BEGIN:VTIMEZONE
TZID:UTC
BEGIN:STANDARD
TZOFFSETFROM:+0000
TZOFFSETTO:+0000
TZNAME:UTC
DTSTART:20140101T000000
END:STANDARD
END:VTIMEZONE
BEGIN:VEVENT
DTSTART;TZID=UTC:20150227T220000
DTEND;TZID=UTC:20150228T000000
DTSTAMP:20260425T163646
CREATED:20150219T182332Z
LAST-MODIFIED:20150219T182332Z
UID:109906-1425074400-1425081600@wruw.org
SUMMARY:WRUW Co-Sponsors Doug Gillard at the Grog Shop
DESCRIPTION:WRUW is proud to co-sponsor Doug Gillard’s February 27th appearance at the Grog Shop! Doug is a Cleveland native whom you may know from Nada Surf\, Guided By Voices and Death of Samantha\, and he will be touring in support of his latest solo album\, “Parade On.” \nTune in to WRUW for opportunities to win tickets to the show!
URL:https://wruw.org/event/wruw-co-sponsors-doug-gillard-at-the-grog-shop/
LOCATION:Grog Shop\, 2785 Euclid Heights Boulevard\, Cleveland Heights\, OH\, 44106\, United States
CATEGORIES:WRUW
ATTACH;FMTTYPE=image/jpeg:https://wruw.org/wp-content/uploads/2015/02/10629774_10152540584096968_6423007923034711798_n.jpg
END:VEVENT
END:VCALENDAR